BEGIN_USGS_DOQ_HEADER *
QUADRANGLE_NAME "LANDERS" *
QUADRANT NW *
NORTH_LATITUDE 34 22 30.000 *
WEST_LONGITUDE -116 30 00.000 *
SOUTH_LATITUDE 34 18 45.000 *
EAST_LONGITUDE -116 26 15.000 *
PRODUCTION_DATE 1998 05 27 *
RASTER_ORDER LEFT_RIGHT/TOP_BOTTOM *
BAND_ORGANIZATION "SINGLE FILE" *
BAND_CONTENT BLACK&WHITE *
BITS_PER_PIXEL 8 *
SAMPLES_AND_LINES 6480 7590 *
HORIZONTAL_DATUM NAD83 *
HORIZONTAL_COORDINATE_SYSTEM UTM *
COORDINATE_ZONE 11 *
HORIZONTAL_UNITS METERS *
HORIZONTAL_RESOLUTION 1.000 *
SECONDARY_HORIZONTAL_DATUM NAD27 *
XY_ORIGIN 545580.000 3804180.000 *
SECONDARY_XY_ORIGIN 545659.428 3803984.724 *
NATION US *
STATE CA *
NW_QUAD_CORNER_XY 545970.238 3803849.758 *
NE_QUAD_CORNER_XY 551716.582 3803879.841 *
SE_QUAD_CORNER_XY 551754.968 3796949.454 *
SW_QUAD_CORNER_XY 546004.359 3796919.396 *
SECONDARY_NW_QUAD_XY 545971.284 3803654.119 *
SECONDARY_NE_QUAD_XY 551717.758 3803684.203 *
SECONDARY_SE_QUAD_XY 551756.143 3796754.012 *
SECONDARY_SW_QUAD_XY 546005.404 3796723.954 *
RMSE_XY 0.799 *
IMAGE_SOURCE "BLACK AND WHITE FILM" *
SOURCE_IMAGE_ID "NAPP 6825 253" *
SOURCE_IMAGE_DATE 1995 10 03 *
SOURCE_DEM_DATE 1972 01 01 *
AGENCY "WESTERN MAPPING CENTER (WMC)" *
PRODUCER "ANALYTICAL SURVEYS INC." *
PRODUCTION_SYSTEM "ORBIT OR_RECTIFY V.5.2" *
STANDARD_VERSION 1996 12 *
METADATA_DATE 1998 05 27 *
DATA_FILE_SIZE 49189680 *
BYTE_COUNT 6480 * * * * * * * * * * * * * * * * * * * * * * * * * * * * * * * * * * * * * *
END_USGS_HEADER *
