BEGIN_USGS_DOQ_HEADER *
QUADRANGLE_NAME "BIGHORN CANYON" *
QUADRANT NE *
NORTH_LATITUDE 34 22 30.000 *
WEST_LONGITUDE -116 33 45.000 *
SOUTH_LATITUDE 34 18 45.000 *
EAST_LONGITUDE -116 30 00.000 *
PRODUCTION_DATE 1998 05 27 *
RASTER_ORDER LEFT_RIGHT/TOP_BOTTOM *
BAND_ORGANIZATION "SINGLE FILE" *
BAND_CONTENT BLACK&WHITE *
BITS_PER_PIXEL 8 *
SAMPLES_AND_LINES 6510 7560 *
HORIZONTAL_DATUM NAD83 *
HORIZONTAL_COORDINATE_SYSTEM UTM *
COORDINATE_ZONE 11 *
HORIZONTAL_UNITS METERS *
HORIZONTAL_RESOLUTION 1.000 *
SECONDARY_HORIZONTAL_DATUM NAD27 *
XY_ORIGIN 539820.000 3804150.000 *
SECONDARY_XY_ORIGIN 539899.478 3803954.598 *
NATION US *
STATE CA *
NW_QUAD_CORNER_XY 540223.915 3803823.214 *
NE_QUAD_CORNER_XY 545970.238 3803849.758 *
SE_QUAD_CORNER_XY 546004.359 3796919.396 *
SW_QUAD_CORNER_XY 540253.770 3796892.875 *
SECONDARY_NW_QUAD_XY 540224.830 3803627.574 *
SECONDARY_NE_QUAD_XY 545971.284 3803654.119 *
SECONDARY_SE_QUAD_XY 546005.404 3796723.954 *
SECONDARY_SW_QUAD_XY 540254.684 3796697.432 *
RMSE_XY 0.893 *
IMAGE_SOURCE "BLACK AND WHITE FILM" *
SOURCE_IMAGE_ID "NAPP 6863 210" *
SOURCE_IMAGE_DATE 1994 05 31 *
SOURCE_IMAGE_ID "NAPP 6863 211" *
SOURCE_IMAGE_DATE 1994 05 31 *
SOURCE_DEM_DATE 1972 01 01 *
AGENCY "WESTERN MAPPING CENTER (WMC)" *
PRODUCER "ANALYTICAL SURVEYS INC." *
PRODUCTION_SYSTEM "ORBIT OR_RECTIFY V.5.2" *
STANDARD_VERSION 1996 12 *
METADATA_DATE 1998 05 27 *
DATA_FILE_SIZE 49222110 *
BYTE_COUNT 6510 * * * * * * * * * * * * * * * * * * * * * * * * * * * * * * * * * * * * *
END_USGS_HEADER *
