BEGIN_USGS_DOQ_HEADER *
QUADRANGLE_NAME "BIGHORN CANYON" *
QUADRANT SE *
NORTH_LATITUDE 34 18 45.000 *
WEST_LONGITUDE -116 33 45.000 *
SOUTH_LATITUDE 34 15 00.000 *
EAST_LONGITUDE -116 30 00.000 *
PRODUCTION_DATE 1998 05 27 *
RASTER_ORDER LEFT_RIGHT/TOP_BOTTOM *
BAND_ORGANIZATION "SINGLE FILE" *
BAND_CONTENT BLACK&WHITE *
BITS_PER_PIXEL 8 *
SAMPLES_AND_LINES 6510 7560 *
HORIZONTAL_DATUM NAD83 *
HORIZONTAL_COORDINATE_SYSTEM UTM *
COORDINATE_ZONE 11 *
HORIZONTAL_UNITS METERS *
HORIZONTAL_RESOLUTION 1.000 *
SECONDARY_HORIZONTAL_DATUM NAD27 *
XY_ORIGIN 539850.000 3797220.000 *
SECONDARY_XY_ORIGIN 539929.473 3797024.537 *
NATION US *
STATE CA *
NW_QUAD_CORNER_XY 540253.770 3796892.875 *
NE_QUAD_CORNER_XY 546004.359 3796919.396 *
SE_QUAD_CORNER_XY 546038.424 3789989.105 *
SW_QUAD_CORNER_XY 540283.577 3789962.606 *
SECONDARY_NW_QUAD_XY 540254.684 3796697.432 *
SECONDARY_NE_QUAD_XY 546005.404 3796723.954 *
SECONDARY_SE_QUAD_XY 546039.468 3789793.859 *
SECONDARY_SW_QUAD_XY 540284.490 3789767.360 *
RMSE_XY 3.321 *
IMAGE_SOURCE "BLACK AND WHITE FILM" *
SOURCE_IMAGE_ID "NAPP 6863 208" *
SOURCE_IMAGE_DATE 1994 05 31 *
SOURCE_IMAGE_ID "NAPP 6863 207" *
SOURCE_IMAGE_DATE 1994 05 31 *
SOURCE_IMAGE_ID "NAPP 6863 209" *
SOURCE_IMAGE_DATE 1994 05 31 *
SOURCE_IMAGE_ID "NAPP 6825 251" *
SOURCE_IMAGE_DATE 1995 10 03 *
SOURCE_DEM_DATE 1972 01 01 *
AGENCY "WESTERN MAPPING CENTER (WMC)" *
PRODUCER "ANALYTICAL SURVEYS INC." *
PRODUCTION_SYSTEM "ORBIT OR_RECTIFY V.5.2" *
STANDARD_VERSION 1996 12 *
METADATA_DATE 1998 05 27 *
DATA_FILE_SIZE 49222110 *
BYTE_COUNT 6510 * * * * * * * * * * * * * * * * * * * * * * * * * * * * * * * * *
END_USGS_HEADER *
