BEGIN_USGS_DOQ_HEADER *
QUADRANGLE_NAME "BIG BEAR CITY" *
QUADRANT NE *
NORTH_LATITUDE 34 22 30.000 *
WEST_LONGITUDE -116 48 45.000 *
SOUTH_LATITUDE 34 18 45.000 *
EAST_LONGITUDE -116 45 00.000 *
PRODUCTION_DATE 1998 05 14 *
RASTER_ORDER LEFT_RIGHT/TOP_BOTTOM *
BAND_ORGANIZATION "SINGLE FILE" *
BAND_CONTENT BLACK&WHITE *
BITS_PER_PIXEL 8 *
SAMPLES_AND_LINES 6480 7590 *
HORIZONTAL_DATUM NAD83 *
HORIZONTAL_COORDINATE_SYSTEM UTM *
COORDINATE_ZONE 11 *
HORIZONTAL_UNITS METERS *
HORIZONTAL_RESOLUTION 1.000 *
SECONDARY_HORIZONTAL_DATUM NAD27 *
XY_ORIGIN 516840.000 3804090.000 *
SECONDARY_XY_ORIGIN 516919.715 3803894.196 *
NATION US *
STATE CA *
NW_QUAD_CORNER_XY 517238.771 3803752.431 *
NE_QUAD_CORNER_XY 522985.039 3803764.818 *
SE_QUAD_CORNER_XY 523002.099 3796834.529 *
SW_QUAD_CORNER_XY 517251.565 3796822.153 *
SECONDARY_NW_QUAD_XY 517239.163 3803556.790 *
SECONDARY_NE_QUAD_XY 522985.562 3803569.177 *
SECONDARY_SE_QUAD_XY 523002.621 3796639.085 *
SECONDARY_SW_QUAD_XY 517251.957 3796626.708 *
RMSE_XY 1.623 *
IMAGE_SOURCE "BLACK AND WHITE FILM" *
SOURCE_IMAGE_ID "NAPP 6874 48" *
SOURCE_IMAGE_DATE 1995 10 02 *
SOURCE_IMAGE_ID "NAPP 6874 129" *
SOURCE_IMAGE_DATE 1995 10 02 *
SOURCE_DEM_DATE 1979 01 01 *
AGENCY "WESTERN MAPPING CENTER (WMC)" *
PRODUCER "ANALYTICAL SURVEYS INC." *
PRODUCTION_SYSTEM "ORBIT OR_RECTIFY V.5.2" *
STANDARD_VERSION 1996 12 *
METADATA_DATE 1998 05 14 *
DATA_FILE_SIZE 49189680 *
BYTE_COUNT 6480 * * * * * * * * * * * * * * * * * * * * * * * * * * * * * * * * * * * *
END_USGS_HEADER *
