BEGIN_USGS_DOQ_HEADER *
QUADRANGLE_NAME "BIG BEAR CITY" *
QUADRANT SW *
NORTH_LATITUDE 34 18 45.000 *
WEST_LONGITUDE -116 52 30.000 *
SOUTH_LATITUDE 34 15 00.000 *
EAST_LONGITUDE -116 48 45.000 *
PRODUCTION_DATE 1998 05 14 *
RASTER_ORDER LEFT_RIGHT/TOP_BOTTOM *
BAND_ORGANIZATION "SINGLE FILE" *
BAND_CONTENT BLACK&WHITE *
BITS_PER_PIXEL 8 *
SAMPLES_AND_LINES 6480 7560 *
HORIZONTAL_DATUM NAD83 *
HORIZONTAL_COORDINATE_SYSTEM UTM *
COORDINATE_ZONE 11 *
HORIZONTAL_UNITS METERS *
HORIZONTAL_RESOLUTION 1.000 *
SECONDARY_HORIZONTAL_DATUM NAD27 *
XY_ORIGIN 511110.000 3797130.000 *
SECONDARY_XY_ORIGIN 511189.845 3796934.091 *
NATION US *
STATE CA *
NW_QUAD_CORNER_XY 511501.039 3796813.313 *
NE_QUAD_CORNER_XY 517251.565 3796822.153 *
SE_QUAD_CORNER_XY 517264.340 3789891.945 *
SW_QUAD_CORNER_XY 511509.555 3789883.113 *
SECONDARY_NW_QUAD_XY 511501.301 3796617.868 *
SECONDARY_NE_QUAD_XY 517251.957 3796626.708 *
SECONDARY_SE_QUAD_XY 517264.731 3789696.698 *
SECONDARY_SW_QUAD_XY 511509.816 3789687.865 *
RMSE_XY 1.189 *
IMAGE_SOURCE "BLACK AND WHITE FILM" *
SOURCE_IMAGE_ID "NAPP 6874 59" *
SOURCE_IMAGE_DATE 1995 10 02 *
SOURCE_IMAGE_ID "NAPP 6874 129" *
SOURCE_IMAGE_DATE 1995 10 02 *
SOURCE_DEM_DATE 1979 01 01 *
AGENCY "WESTERN MAPPING CENTER (WMC)" *
PRODUCER "ANALYTICAL SURVEYS INC." *
PRODUCTION_SYSTEM "ORBIT OR_RECTIFY V.5.2" *
STANDARD_VERSION 1996 12 *
METADATA_DATE 1998 05 15 *
DATA_FILE_SIZE 48995280 *
BYTE_COUNT 6480 * * * * * * * * * * * * * * * * * * * * * * * * * * * * * * * * * * * *
END_USGS_HEADER *
