BEGIN_USGS_DOQ_HEADER *
QUADRANGLE_NAME "DEADMAN LAKE NE" *
QUADRANT NE *
NORTH_LATITUDE 34 30 00.000 *
WEST_LONGITUDE -116 03 45.000 *
SOUTH_LATITUDE 34 26 15.000 *
EAST_LONGITUDE -116 00 00.000 *
PRODUCTION_DATE 1998 05 19 *
RASTER_ORDER LEFT_RIGHT/TOP_BOTTOM *
BAND_ORGANIZATION "SINGLE FILE" *
BAND_CONTENT BLACK&WHITE *
BITS_PER_PIXEL 8 *
SAMPLES_AND_LINES 6540 7620 *
HORIZONTAL_DATUM NAD83 *
HORIZONTAL_COORDINATE_SYSTEM UTM *
COORDINATE_ZONE 11 *
HORIZONTAL_UNITS METERS *
HORIZONTAL_RESOLUTION 1.000 *
SECONDARY_HORIZONTAL_DATUM NAD27 *
XY_ORIGIN 585660.000 3818370.000 *
SECONDARY_XY_ORIGIN 585738.949 3818175.427 *
NATION US *
STATE CA *
NW_QUAD_CORNER_XY 586066.931 3817996.095 *
NE_QUAD_CORNER_XY 591804.930 3818051.052 *
SE_QUAD_CORNER_XY 591873.398 3811120.262 *
SW_QUAD_CORNER_XY 586131.118 3811065.352 *
SECONDARY_NW_QUAD_XY 586068.895 3817800.071 *
SECONDARY_NE_QUAD_XY 591807.025 3817855.029 *
SECONDARY_SE_QUAD_XY 591875.491 3810924.435 *
SECONDARY_SW_QUAD_XY 586133.081 3810869.523 *
RMSE_XY 2.262 *
IMAGE_SOURCE "BLACK AND WHITE FILM" *
SOURCE_IMAGE_ID "NAPP 6825 171" *
SOURCE_IMAGE_DATE 1995 10 03 *
SOURCE_DEM_DATE 1955 01 01 *
AGENCY "WESTERN MAPPING CENTER (WMC)" *
PRODUCER "ANALYTICAL SURVEYS INC." *
PRODUCTION_SYSTEM "ORBIT OR_RECTIFY V.5.2" *
STANDARD_VERSION 1996 12 *
METADATA_DATE 1998 05 19 *
DATA_FILE_SIZE 49841340 *
BYTE_COUNT 6540 * * * * * * * * * * * * * * * * * * * * * * * * * * * * * * * * * * * * * * *
END_USGS_HEADER *
