BEGIN_USGS_DOQ_HEADER *
QUADRANGLE_NAME "DEADMAN LAKE NE" *
QUADRANT SW *
NORTH_LATITUDE 34 26 15.000 *
WEST_LONGITUDE -116 07 30.000 *
SOUTH_LATITUDE 34 22 30.000 *
EAST_LONGITUDE -116 03 45.000 *
PRODUCTION_DATE 1998 05 19 *
RASTER_ORDER LEFT_RIGHT/TOP_BOTTOM *
BAND_ORGANIZATION "SINGLE FILE" *
BAND_CONTENT BLACK&WHITE *
BITS_PER_PIXEL 8 *
SAMPLES_AND_LINES 6510 7620 *
HORIZONTAL_DATUM NAD83 *
HORIZONTAL_COORDINATE_SYSTEM UTM *
COORDINATE_ZONE 11 *
HORIZONTAL_UNITS METERS *
HORIZONTAL_RESOLUTION 1.000 *
SECONDARY_HORIZONTAL_DATUM NAD27 *
XY_ORIGIN 579990.000 3811380.000 *
SECONDARY_XY_ORIGIN 580069.001 3811185.347 *
NATION US *
STATE CA *
NW_QUAD_CORNER_XY 580388.876 3811013.985 *
NE_QUAD_CORNER_XY 586131.118 3811065.352 *
SE_QUAD_CORNER_XY 586195.203 3804134.678 *
SW_QUAD_CORNER_XY 580448.687 3804083.355 *
SECONDARY_NW_QUAD_XY 580390.707 3810818.156 *
SECONDARY_NE_QUAD_XY 586133.081 3810869.523 *
SECONDARY_SE_QUAD_XY 586197.164 3803939.045 *
SECONDARY_SW_QUAD_XY 580450.517 3803887.721 *
RMSE_XY 2.568 *
IMAGE_SOURCE "BLACK AND WHITE FILM" *
SOURCE_IMAGE_ID "NAPP 6806 31" *
SOURCE_IMAGE_DATE 1994 05 22 *
SOURCE_IMAGE_ID "NAPP 6825 171" *
SOURCE_IMAGE_DATE 1995 10 03 *
SOURCE_DEM_DATE 1955 01 01 *
AGENCY "WESTERN MAPPING CENTER (WMC)" *
PRODUCER "ANALYTICAL SURVEYS INC." *
PRODUCTION_SYSTEM "ORBIT OR_RECTIFY V.5.2" *
STANDARD_VERSION 1996 12 *
METADATA_DATE 1998 05 19 *
DATA_FILE_SIZE 49612710 *
BYTE_COUNT 6510 * * * * * * * * * * * * * * * * * * * * * * * * * * * * * * * * * * * * *
END_USGS_HEADER *
