BEGIN_USGS_DOQ_HEADER *
QUADRANGLE_NAME "DEADMAN LAKE NW" *
QUADRANT NE *
NORTH_LATITUDE 34 30 00.000 *
WEST_LONGITUDE -116 11 15.000 *
SOUTH_LATITUDE 34 26 15.000 *
EAST_LONGITUDE -116 07 30.000 *
PRODUCTION_DATE 1998 05 19 *
RASTER_ORDER LEFT_RIGHT/TOP_BOTTOM *
BAND_ORGANIZATION "SINGLE FILE" *
BAND_CONTENT BLACK&WHITE *
BITS_PER_PIXEL 8 *
SAMPLES_AND_LINES 6510 7590 *
HORIZONTAL_DATUM NAD83 *
HORIZONTAL_COORDINATE_SYSTEM UTM *
COORDINATE_ZONE 11 *
HORIZONTAL_UNITS METERS *
HORIZONTAL_RESOLUTION 1.000 *
SECONDARY_HORIZONTAL_DATUM NAD27 *
XY_ORIGIN 574200.000 3818250.000 *
SECONDARY_XY_ORIGIN 574278.984 3818055.279 *
NATION US *
STATE CA *
NW_QUAD_CORNER_XY 574591.041 3817896.821 *
NE_QUAD_CORNER_XY 580328.968 3817944.685 *
SE_QUAD_CORNER_XY 580388.876 3811013.985 *
SW_QUAD_CORNER_XY 574646.668 3810966.162 *
SECONDARY_NW_QUAD_XY 574592.743 3817700.795 *
SECONDARY_NE_QUAD_XY 580330.802 3817748.660 *
SECONDARY_SE_QUAD_XY 580390.707 3810818.156 *
SECONDARY_SW_QUAD_XY 574648.369 3810770.331 *
RMSE_XY 3.989 *
IMAGE_SOURCE "BLACK AND WHITE FILM" *
SOURCE_IMAGE_ID "NAPP 6806 147" *
SOURCE_IMAGE_DATE 1994 05 22 *
SOURCE_DEM_DATE 1955 01 01 *
AGENCY "WESTERN MAPPING CENTER (WMC)" *
PRODUCER "ANALYTICAL SURVEYS INC." *
PRODUCTION_SYSTEM "ORBIT OR_RECTIFY V.5.2" *
STANDARD_VERSION 1996 12 *
METADATA_DATE 1998 05 19 *
DATA_FILE_SIZE 49417410 *
BYTE_COUNT 6510 * * * * * * * * * * * * * * * * * * * * * * * * * * * * * * * * * * * * * * *
END_USGS_HEADER *
