BEGIN_USGS_DOQ_HEADER *
QUADRANGLE_NAME "HIDALGO MOUNTAIN" *
QUADRANT SE *
NORTH_LATITUDE 34 26 15.000 *
WEST_LONGITUDE -116 18 45.000 *
SOUTH_LATITUDE 34 22 30.000 *
EAST_LONGITUDE -116 15 00.000 *
PRODUCTION_DATE 1998 05 26 *
RASTER_ORDER LEFT_RIGHT/TOP_BOTTOM *
BAND_ORGANIZATION "SINGLE FILE" *
BAND_CONTENT BLACK&WHITE *
BITS_PER_PIXEL 8 *
SAMPLES_AND_LINES 6510 7590 *
HORIZONTAL_DATUM NAD83 *
HORIZONTAL_COORDINATE_SYSTEM UTM *
COORDINATE_ZONE 11 *
HORIZONTAL_UNITS METERS *
HORIZONTAL_RESOLUTION 1.000 *
SECONDARY_HORIZONTAL_DATUM NAD27 *
XY_ORIGIN 562770.000 3811230.000 *
SECONDARY_XY_ORIGIN 562849.157 3811035.080 *
NATION US *
STATE CA *
NW_QUAD_CORNER_XY 563162.347 3810881.145 *
NE_QUAD_CORNER_XY 568904.492 3810921.882 *
SE_QUAD_CORNER_XY 568955.758 3803991.330 *
SW_QUAD_CORNER_XY 563209.339 3803950.627 *
SECONDARY_NW_QUAD_XY 563163.786 3810685.312 *
SECONDARY_NE_QUAD_XY 568906.062 3810726.050 *
SECONDARY_SE_QUAD_XY 568957.326 3803795.693 *
SECONDARY_SW_QUAD_XY 563210.777 3803754.990 *
RMSE_XY 2.148 *
IMAGE_SOURCE "BLACK AND WHITE FILM" *
SOURCE_IMAGE_ID "NAPP 6825 240" *
SOURCE_IMAGE_DATE 1995 10 03 *
SOURCE_DEM_DATE 1954 01 01 *
AGENCY "WESTERN MAPPING CENTER (WMC)" *
PRODUCER "ANALYTICAL SURVEYS INC." *
PRODUCTION_SYSTEM "ORBIT OR_RECTIFY V.5.2" *
STANDARD_VERSION 1996 12 *
METADATA_DATE 1998 05 26 *
DATA_FILE_SIZE 49417410 *
BYTE_COUNT 6510 * * * * * * * * * * * * * * * * * * * * * * * * * * * * * * * * * * * * * * *
END_USGS_HEADER *
