BEGIN_USGS_DOQ_HEADER *
QUADRANGLE_NAME "EMERSON LAKE" *
QUADRANT SE *
NORTH_LATITUDE 34 26 15.000 *
WEST_LONGITUDE -116 26 15.000 *
SOUTH_LATITUDE 34 22 30.000 *
EAST_LONGITUDE -116 22 30.000 *
PRODUCTION_DATE 1998 05 26 *
RASTER_ORDER LEFT_RIGHT/TOP_BOTTOM *
BAND_ORGANIZATION "SINGLE FILE" *
BAND_CONTENT BLACK&WHITE *
BITS_PER_PIXEL 8 *
SAMPLES_AND_LINES 6510 7620 *
HORIZONTAL_DATUM NAD83 *
HORIZONTAL_COORDINATE_SYSTEM UTM *
COORDINATE_ZONE 11 *
HORIZONTAL_UNITS METERS *
HORIZONTAL_RESOLUTION 1.000 *
SECONDARY_HORIZONTAL_DATUM NAD27 *
XY_ORIGIN 551280.000 3811170.000 *
SECONDARY_XY_ORIGIN 551359.345 3810974.878 *
NATION US *
STATE CA *
NW_QUAD_CORNER_XY 551678.134 3810810.299 *
NE_QUAD_CORNER_XY 557420.228 3810843.950 *
SE_QUAD_CORNER_XY 557462.948 3803913.464 *
SW_QUAD_CORNER_XY 551716.582 3803879.841 *
SECONDARY_NW_QUAD_XY 551679.312 3810614.464 *
SECONDARY_NE_QUAD_XY 557421.536 3810648.117 *
SECONDARY_SE_QUAD_XY 557464.255 3803717.826 *
SECONDARY_SW_QUAD_XY 551717.758 3803684.203 *
RMSE_XY 0.989 *
IMAGE_SOURCE "BLACK AND WHITE FILM" *
SOURCE_IMAGE_ID "NAPP 6826 76" *
SOURCE_IMAGE_DATE 1995 10 04 *
SOURCE_DEM_DATE 1952 01 01 *
AGENCY "WESTERN MAPPING CENTER (WMC)" *
PRODUCER "ANALYTICAL SURVEYS INC." *
PRODUCTION_SYSTEM "ORBIT OR_RECTIFY V.5.2" *
STANDARD_VERSION 1996 12 *
METADATA_DATE 1998 05 27 *
DATA_FILE_SIZE 49612710 *
BYTE_COUNT 6510 * * * * * * * * * * * * * * * * * * * * * * * * * * * * * * * * * * * * * * *
END_USGS_HEADER *
