BEGIN_USGS_DOQ_HEADER *
QUADRANGLE_NAME "EMERSON LAKE" *
QUADRANT SW *
NORTH_LATITUDE 34 26 15.000 *
WEST_LONGITUDE -116 30 00.000 *
SOUTH_LATITUDE 34 22 30.000 *
EAST_LONGITUDE -116 26 15.000 *
PRODUCTION_DATE 1998 05 26 *
RASTER_ORDER LEFT_RIGHT/TOP_BOTTOM *
BAND_ORGANIZATION "SINGLE FILE" *
BAND_CONTENT BLACK&WHITE *
BITS_PER_PIXEL 8 *
SAMPLES_AND_LINES 6480 7620 *
HORIZONTAL_DATUM NAD83 *
HORIZONTAL_COORDINATE_SYSTEM UTM *
COORDINATE_ZONE 11 *
HORIZONTAL_UNITS METERS *
HORIZONTAL_RESOLUTION 1.000 *
SECONDARY_HORIZONTAL_DATUM NAD27 *
XY_ORIGIN 545550.000 3811140.000 *
SECONDARY_XY_ORIGIN 545629.439 3810944.777 *
NATION US *
STATE CA *
NW_QUAD_CORNER_XY 545936.063 3810780.190 *
NE_QUAD_CORNER_XY 551678.134 3810810.299 *
SE_QUAD_CORNER_XY 551716.582 3803879.841 *
SW_QUAD_CORNER_XY 545970.238 3803849.758 *
SECONDARY_NW_QUAD_XY 545937.110 3810584.355 *
SECONDARY_NE_QUAD_XY 551679.312 3810614.464 *
SECONDARY_SE_QUAD_XY 551717.758 3803684.203 *
SECONDARY_SW_QUAD_XY 545971.284 3803654.119 *
RMSE_XY 0.912 *
IMAGE_SOURCE "BLACK AND WHITE FILM" *
SOURCE_IMAGE_ID "NAPP 6809 10" *
SOURCE_IMAGE_DATE 1994 05 28 *
SOURCE_IMAGE_ID "NAPP 6809 12" *
SOURCE_IMAGE_DATE 1994 05 28 *
SOURCE_DEM_DATE 1952 01 01 *
AGENCY "WESTERN MAPPING CENTER (WMC)" *
PRODUCER "ANALYTICAL SURVEYS INC." *
PRODUCTION_SYSTEM "ORBIT OR_RECTIFY V.5.2" *
STANDARD_VERSION 1996 12 *
METADATA_DATE 1998 05 26 *
DATA_FILE_SIZE 49384080 *
BYTE_COUNT 6480 * * * * * * * * * * * * * * * * * * * * * * * * * * * * * * * * * * * *
END_USGS_HEADER *
