BEGIN_USGS_DOQ_HEADER *
QUADRANGLE_NAME "MELVILLE LAKE" *
QUADRANT NW *
NORTH_LATITUDE 34 30 00.000 *
WEST_LONGITUDE -116 37 30.000 *
SOUTH_LATITUDE 34 26 15.000 *
EAST_LONGITUDE -116 33 45.000 *
PRODUCTION_DATE 1998 05 26 *
RASTER_ORDER LEFT_RIGHT/TOP_BOTTOM *
BAND_ORGANIZATION "SINGLE FILE" *
BAND_CONTENT BLACK&WHITE *
BITS_PER_PIXEL 8 *
SAMPLES_AND_LINES 6480 7590 *
HORIZONTAL_DATUM NAD83 *
HORIZONTAL_COORDINATE_SYSTEM UTM *
COORDINATE_ZONE 11 *
HORIZONTAL_UNITS METERS *
HORIZONTAL_RESOLUTION 1.000 *
SECONDARY_HORIZONTAL_DATUM NAD27 *
XY_ORIGIN 534030.000 3818010.000 *
SECONDARY_XY_ORIGIN 534109.521 3817814.615 *
NATION US *
STATE CA *
NW_QUAD_CORNER_XY 534426.306 3817661.060 *
NE_QUAD_CORNER_XY 540164.061 3817684.104 *
SE_QUAD_CORNER_XY 540194.012 3810753.623 *
SW_QUAD_CORNER_XY 534451.978 3810730.599 *
SECONDARY_NW_QUAD_XY 534427.092 3817465.029 *
SECONDARY_NE_QUAD_XY 540164.978 3817488.073 *
SECONDARY_SE_QUAD_XY 540194.928 3810557.788 *
SECONDARY_SW_QUAD_XY 534452.763 3810534.763 *
RMSE_XY 0.824 *
IMAGE_SOURCE "BLACK AND WHITE FILM" *
SOURCE_IMAGE_ID "NAPP 6863 233" *
SOURCE_IMAGE_DATE 1994 05 31 *
SOURCE_DEM_DATE 1972 01 01 *
AGENCY "WESTERN MAPPING CENTER (WMC)" *
PRODUCER "ANALYTICAL SURVEYS INC." *
PRODUCTION_SYSTEM "ORBIT OR_RECTIFY V.5.2" *
STANDARD_VERSION 1996 12 *
METADATA_DATE 1998 05 26 *
DATA_FILE_SIZE 49189680 *
BYTE_COUNT 6480 * * * * * * * * * * * * * * * * * * * * * * * * * * * * * * * * * * * * * *
END_USGS_HEADER *
