BEGIN_USGS_DOQ_HEADER *
QUADRANGLE_NAME "OLD WOMAN SPRINGS" *
QUADRANT SE *
NORTH_LATITUDE 34 26 15.000 *
WEST_LONGITUDE -116 41 15.000 *
SOUTH_LATITUDE 34 22 30.000 *
EAST_LONGITUDE -116 37 30.000 *
PRODUCTION_DATE 1998 05 12 *
RASTER_ORDER LEFT_RIGHT/TOP_BOTTOM *
BAND_ORGANIZATION "SINGLE FILE" *
BAND_CONTENT BLACK&WHITE *
BITS_PER_PIXEL 8 *
SAMPLES_AND_LINES 6450 7590 *
HORIZONTAL_DATUM NAD83 *
HORIZONTAL_COORDINATE_SYSTEM UTM *
COORDINATE_ZONE 11 *
HORIZONTAL_UNITS METERS *
HORIZONTAL_RESOLUTION 1.000 *
SECONDARY_HORIZONTAL_DATUM NAD27 *
XY_ORIGIN 528330.000 3811050.000 *
SECONDARY_XY_ORIGIN 528409.560 3810854.429 *
NATION US *
STATE CA *
NW_QUAD_CORNER_XY 528709.959 3810711.118 *
NE_QUAD_CORNER_XY 534451.978 3810730.599 *
SE_QUAD_CORNER_XY 534477.609 3803800.209 *
SW_QUAD_CORNER_XY 528731.318 3803780.744 *
SECONDARY_NW_QUAD_XY 528710.613 3810515.281 *
SECONDARY_NE_QUAD_XY 534452.763 3810534.763 *
SECONDARY_SE_QUAD_XY 534478.393 3803604.569 *
SECONDARY_SW_QUAD_XY 528731.971 3803585.103 *
RMSE_XY 0.924 *
IMAGE_SOURCE "BLACK AND WHITE FILM" *
SOURCE_IMAGE_ID "NAPP 6874 164" *
SOURCE_IMAGE_DATE 1995 10 02 *
SOURCE_DEM_DATE 1994 01 01 *
AGENCY "WESTERN MAPPING CENTER (WMC)" *
PRODUCER "ANALYTICAL SURVEYS INC." *
PRODUCTION_SYSTEM "ORBIT OR_RECTIFY V.5.2" *
STANDARD_VERSION 1996 12 *
METADATA_DATE 1998 05 13 *
DATA_FILE_SIZE 48961950 *
BYTE_COUNT 6450 * * * * * * * * * * * * * * * * * * * * * * * * * * * * * * * * * * * * * *
END_USGS_HEADER *
