BEGIN_USGS_DOQ_HEADER *
QUADRANGLE_NAME "COUGAR BUTTES" *
QUADRANT NE *
NORTH_LATITUDE 34 30 00.000 *
WEST_LONGITUDE -116 48 45.000 *
SOUTH_LATITUDE 34 26 15.000 *
EAST_LONGITUDE -116 45 00.000 *
PRODUCTION_DATE 1998 05 12 *
RASTER_ORDER LEFT_RIGHT/TOP_BOTTOM *
BAND_ORGANIZATION "SINGLE FILE" *
BAND_CONTENT BLACK&WHITE *
BITS_PER_PIXEL 8 *
SAMPLES_AND_LINES 6480 7590 *
HORIZONTAL_DATUM NAD83 *
HORIZONTAL_COORDINATE_SYSTEM UTM *
COORDINATE_ZONE 11 *
HORIZONTAL_UNITS METERS *
HORIZONTAL_RESOLUTION 1.000 *
SECONDARY_HORIZONTAL_DATUM NAD27 *
XY_ORIGIN 516810.000 3817950.000 *
SECONDARY_XY_ORIGIN 516889.677 3817754.350 *
NATION US *
STATE CA *
NW_QUAD_CORNER_XY 517213.120 3817613.201 *
NE_QUAD_CORNER_XY 522950.838 3817625.609 *
SE_QUAD_CORNER_XY 522967.952 3810695.178 *
SW_QUAD_CORNER_XY 517225.955 3810682.781 *
SECONDARY_NW_QUAD_XY 517213.512 3817417.169 *
SECONDARY_NE_QUAD_XY 522951.361 3817429.577 *
SECONDARY_SE_QUAD_XY 522968.475 3810499.341 *
SECONDARY_SW_QUAD_XY 517226.348 3810486.944 *
RMSE_XY 0.621 *
IMAGE_SOURCE "BLACK AND WHITE FILM" *
SOURCE_IMAGE_ID "NAPP 6874 181" *
SOURCE_IMAGE_DATE 1995 10 02 *
SOURCE_DEM_DATE 1994 01 01 *
AGENCY "WESTERN MAPPING CENTER (WMC)" *
PRODUCER "ANALYTICAL SURVEYS INC." *
PRODUCTION_SYSTEM "ORBIT OR_RECTIFY V.5.2" *
STANDARD_VERSION 1996 12 *
METADATA_DATE 1998 05 13 *
DATA_FILE_SIZE 49189680 *
BYTE_COUNT 6480 * * * * * * * * * * * * * * * * * * * * * * * * * * * * * * * * * * * * * *
END_USGS_HEADER *
