BEGIN_USGS_DOQ_HEADER *
QUADRANGLE_NAME "LUCERNE VALLEY" *
QUADRANT SW *
NORTH_LATITUDE 34 26 15.000 *
WEST_LONGITUDE -117 00 00.000 *
SOUTH_LATITUDE 34 22 30.000 *
EAST_LONGITUDE -116 56 15.000 *
PRODUCTION_DATE 1998 05 15 *
RASTER_ORDER LEFT_RIGHT/TOP_BOTTOM *
BAND_ORGANIZATION "SINGLE FILE" *
BAND_CONTENT BLACK&WHITE *
BITS_PER_PIXEL 8 *
SAMPLES_AND_LINES 6480 7560 *
HORIZONTAL_DATUM NAD83 *
HORIZONTAL_COORDINATE_SYSTEM UTM *
COORDINATE_ZONE 11 *
HORIZONTAL_UNITS METERS *
HORIZONTAL_RESOLUTION 1.000 *
SECONDARY_HORIZONTAL_DATUM NAD27 *
XY_ORIGIN 499590.000 3810990.000 *
SECONDARY_XY_ORIGIN 499669.975 3810794.126 *
NATION US *
STATE CA *
NW_QUAD_CORNER_XY 500000.000 3810666.841 *
NE_QUAD_CORNER_XY 505741.982 3810668.613 *
SE_QUAD_CORNER_XY 505746.254 3803738.275 *
SW_QUAD_CORNER_XY 500000.000 3803736.506 *
SECONDARY_NW_QUAD_XY 500000.000 3810471.004 *
SECONDARY_NE_QUAD_XY 505742.113 3810472.775 *
SECONDARY_SE_QUAD_XY 505746.384 3803542.633 *
SECONDARY_SW_QUAD_XY 500000.000 3803540.864 *
RMSE_XY 1.073 *
IMAGE_SOURCE "BLACK AND WHITE FILM" *
SOURCE_IMAGE_ID "NAPP 6880 90" *
SOURCE_IMAGE_DATE 1995 10 07 *
SOURCE_DEM_DATE 1994 01 01 *
AGENCY "WESTERN MAPPING CENTER (WMC)" *
PRODUCER "ANALYTICAL SURVEYS INC." *
PRODUCTION_SYSTEM "ORBIT OR_RECTIFY V.5.2" *
STANDARD_VERSION 1996 12 *
METADATA_DATE 1998 05 18 *
DATA_FILE_SIZE 48995280 *
BYTE_COUNT 6480 * * * * * * * * * * * * * * * * * * * * * * * * * * * * * * * * * * * * * *
END_USGS_HEADER *
