BEGIN_USGS_DOQ_HEADER *
QUADRANGLE_NAME "LUDLOW SE" 3.45 or 7.5-min. name*
QUADRANT SW quadrant indicator if cell size = 3.75-minutes*
WEST_LONGITUDE -116 7 30.000 signed deg min sec SDDD MM SS.SSS*
EAST_LONGITUDE -116 3 45.000 signed deg min sec SDDD MM SS.SSS*
NORTH_LATITUDE 34 33 45.000 signed deg min sec SDDD MM SS.SSS*
SOUTH_LATITUDE 34 30 0.000 signed deg min sec SDDD MM SS.SSS*
PRODUCTION_DATE 1997 2 6 yyyy mm dd*
RASTER_ORDER LEFT_RIGHT/TOP_BOTTOM video display order*
BAND_ORGANIZATION "SINGLE FILE" single file or BSQ, or BIL or BIP*
BAND_CONTENT BLACK&WHITE black&white or red green blue*
BITS_PER_PIXEL 8 radiometric resolution*
SAMPLES_AND_LINES 6510 7620 number of columns and rows*
HORIZONTAL_DATUM NAD83 primary horizontal datum*
HORIZONTAL_COORDINATE_SYSTEM UTM *
COORDINATE_ZONE 11 coordinate system zone number*
HORIZONTAL_UNITS METERS coordinate system units*
HORIZONTAL_RESOLUTION 1.00 pixel horiz. ground sample distance*
SECONDARY_HORIZONTAL_DATUM NAD27 secondary horizontal datum*
XY_ORIGIN 579870.000 3825240.000 coord. of upper left pixel pri. datum*
SECONDARY_XY_ORIGIN 579948.997 3825045.293 coord upper left pixel sec datum*
NATION US nation code*
STATE CA state fip code*
NW_QUAD_CORNER_XY 580268.965 3824875.454 XY coords. of pri. NW quad corner*
NE_QUAD_CORNER_XY 586002.641 3824926.907 XY coords. of pri. NE quad corner*
SE_QUAD_CORNER_XY 586066.931 3817996.095 XY coords. of pri. SE quad corner*
SW_QUAD_CORNER_XY 580328.968 3817944.685 XY coords. of pri. SW quad corner*
SECONDARY_NW_QUAD_XY 580270.800 3824679.235 XY coords. - sec. NW quad cor.*
SECONDARY_NE_QUAD_XY 586004.607 3824730.689 XY coords. - sec. NE quad cor.*
SECONDARY_SE_QUAD_XY 586068.895 3817800.071 XY coords. - sec. SE quad cor.*
SECONDARY_SW_QUAD_XY 580330.802 3817748.660 XY coords. - sec. SW quad cor.*
RMSE_XY 2.40 doq horiz. accuracy*
IMAGE_SOURCE "BLACK AND WHITE FILM" b&w, cir, natural color, other*
SOURCE_IMAGE_ID "NAPP 6806 035" source image id*
SOURCE_IMAGE_DATE 1994 5 22 source image date as yyyy mm dd*
SOURCE_DEM_DATE 1997 2 6 source dem date yyyy mm dd*
AGENCY "WESTERN MAPPING CENTER (WMC)" oversight agency*
PRODUCER "Analytical Surveys" producer/contractor*
PRODUCTION_SYSTEM "ORBIT OR_RECTIFY V.5.2" production system*
STANDARD_VERSION 1996 12 version of DOQ standard*
METADATA_DATE 1997 10 31 date created or changed, yyyy mm dd*
DATA_FILE_SIZE 49612710 data set size in bytes*
BYTE_COUNT 6510 header byte count* * * * * * * * * * * * * * * * * * * * * * * * * * * * * * * * * * * * * * *
END_USGS_HEADER *
