BEGIN_USGS_DOQ_HEADER *
QUADRANGLE_NAME "MORGANS WELL" *
QUADRANT NW *
NORTH_LATITUDE 34 37 30.000 *
WEST_LONGITUDE -116 15 00.000 *
SOUTH_LATITUDE 34 33 45.000 *
EAST_LONGITUDE -116 11 15.000 *
PRODUCTION_DATE 1998 05 22 *
RASTER_ORDER LEFT_RIGHT/TOP_BOTTOM *
BAND_ORGANIZATION "SINGLE FILE" *
BAND_CONTENT BLACK&WHITE *
BITS_PER_PIXEL 8 *
SAMPLES_AND_LINES 6510 7620 *
HORIZONTAL_DATUM NAD83 *
HORIZONTAL_COORDINATE_SYSTEM UTM *
COORDINATE_ZONE 11 *
HORIZONTAL_UNITS METERS *
HORIZONTAL_RESOLUTION 1.000 *
SECONDARY_HORIZONTAL_DATUM NAD27 *
XY_ORIGIN 568350.000 3832080.000 *
SECONDARY_XY_ORIGIN 568429.138 3831885.108 *
NATION US *
STATE CA *
NW_QUAD_CORNER_XY 568750.204 3831713.957 *
NE_QUAD_CORNER_XY 574479.519 3831758.349 *
SE_QUAD_CORNER_XY 574535.324 3824827.550 *
SW_QUAD_CORNER_XY 568801.715 3824783.196 *
SECONDARY_NW_QUAD_XY 568751.778 3831517.543 *
SECONDARY_NE_QUAD_XY 574481.225 3831561.936 *
SECONDARY_SE_QUAD_XY 574537.028 3824631.330 *
SECONDARY_SW_QUAD_XY 568803.288 3824586.975 *
RMSE_XY 2.204 *
IMAGE_SOURCE "BLACK AND WHITE FILM" *
SOURCE_IMAGE_ID "NAPP 6809 275" *
SOURCE_IMAGE_DATE 1994 05 28 *
SOURCE_IMAGE_ID "NAPP 6809 277" *
SOURCE_IMAGE_DATE 1994 05 28 *
SOURCE_IMAGE_ID "NAPP 6825 234" *
SOURCE_IMAGE_DATE 1995 10 03 *
SOURCE_IMAGE_ID "NAPP 6825 236" *
SOURCE_IMAGE_DATE 1995 10 03 *
SOURCE_DEM_DATE 1952 01 01 *
AGENCY "WESTERN MAPPING CENTER (WMC)" *
PRODUCER "ANALYTICAL SURVEYS INC." *
PRODUCTION_SYSTEM "ORBIT OR_RECTIFY V.5.2" *
STANDARD_VERSION 1996 12 *
METADATA_DATE 1998 05 22 *
DATA_FILE_SIZE 49612710 *
BYTE_COUNT 6510 * * * * * * * * * * * * * * * * * * * * * * * * * * * * * * * * *
END_USGS_HEADER *
