BEGIN_USGS_DOQ_HEADER *
QUADRANGLE_NAME "MORGANS WELL" *
QUADRANT SW *
NORTH_LATITUDE 34 33 45.000 *
WEST_LONGITUDE -116 15 00.000 *
SOUTH_LATITUDE 34 30 00.000 *
EAST_LONGITUDE -116 11 15.000 *
PRODUCTION_DATE 1998 05 22 *
RASTER_ORDER LEFT_RIGHT/TOP_BOTTOM *
BAND_ORGANIZATION "SINGLE FILE" *
BAND_CONTENT BLACK&WHITE *
BITS_PER_PIXEL 8 *
SAMPLES_AND_LINES 6510 7620 *
HORIZONTAL_DATUM NAD83 *
HORIZONTAL_COORDINATE_SYSTEM UTM *
COORDINATE_ZONE 11 *
HORIZONTAL_UNITS METERS *
HORIZONTAL_RESOLUTION 1.000 *
SECONDARY_HORIZONTAL_DATUM NAD27 *
XY_ORIGIN 568410.000 3825150.000 *
SECONDARY_XY_ORIGIN 568489.068 3824955.154 *
NATION US *
STATE CA *
NW_QUAD_CORNER_XY 568801.715 3824783.196 *
NE_QUAD_CORNER_XY 574535.324 3824827.550 *
SE_QUAD_CORNER_XY 574591.041 3817896.821 *
SW_QUAD_CORNER_XY 568853.145 3817852.504 *
SECONDARY_NW_QUAD_XY 568803.288 3824586.975 *
SECONDARY_NE_QUAD_XY 574537.028 3824631.330 *
SECONDARY_SE_QUAD_XY 574592.743 3817700.795 *
SECONDARY_SW_QUAD_XY 568854.716 3817656.477 *
RMSE_XY 1.898 *
IMAGE_SOURCE "BLACK AND WHITE FILM" *
SOURCE_IMAGE_ID "NAPP 6809 277" *
SOURCE_IMAGE_DATE 1994 05 28 *
SOURCE_IMAGE_ID "NAPP 6825 236" *
SOURCE_IMAGE_DATE 1995 10 03 *
SOURCE_DEM_DATE 1952 01 01 *
AGENCY "WESTERN MAPPING CENTER (WMC)" *
PRODUCER "ANALYTICAL SURVEYS INC." *
PRODUCTION_SYSTEM "ORBIT OR_RECTIFY V.5.2" *
STANDARD_VERSION 1996 12 *
METADATA_DATE 1998 05 22 *
DATA_FILE_SIZE 49612710 *
BYTE_COUNT 6510 * * * * * * * * * * * * * * * * * * * * * * * * * * * * * * * * * * * * *
END_USGS_HEADER *
