BEGIN_USGS_DOQ_HEADER *
QUADRANGLE_NAME "LAVIC SE" *
QUADRANT SW *
NORTH_LATITUDE 34 33 45.000 *
WEST_LONGITUDE -116 22 30.000 *
SOUTH_LATITUDE 34 30 00.000 *
EAST_LONGITUDE -116 18 45.000 *
PRODUCTION_DATE 1998 05 22 *
RASTER_ORDER LEFT_RIGHT/TOP_BOTTOM *
BAND_ORGANIZATION "SINGLE FILE" *
BAND_CONTENT BLACK&WHITE *
BITS_PER_PIXEL 8 *
SAMPLES_AND_LINES 6480 7590 *
HORIZONTAL_DATUM NAD83 *
HORIZONTAL_COORDINATE_SYSTEM UTM *
COORDINATE_ZONE 11 *
HORIZONTAL_UNITS METERS *
HORIZONTAL_RESOLUTION 1.000 *
SECONDARY_HORIZONTAL_DATUM NAD27 *
XY_ORIGIN 556950.000 3825060.000 *
SECONDARY_XY_ORIGIN 557029.306 3824864.980 *
NATION US *
STATE CA *
NW_QUAD_CORNER_XY 557334.583 3824705.133 *
NE_QUAD_CORNER_XY 563068.136 3824742.390 *
SE_QUAD_CORNER_XY 563115.279 3817811.732 *
SW_QUAD_CORNER_XY 557377.440 3817774.507 *
SECONDARY_NW_QUAD_XY 557335.894 3824508.910 *
SECONDARY_NE_QUAD_XY 563069.577 3824546.168 *
SECONDARY_SE_QUAD_XY 563116.719 3817615.705 *
SECONDARY_SW_QUAD_XY 557378.749 3817578.478 *
RMSE_XY 1.387 *
IMAGE_SOURCE "BLACK AND WHITE FILM" *
SOURCE_IMAGE_ID "NAPP 6809 168" *
SOURCE_IMAGE_DATE 1994 05 28 *
SOURCE_DEM_DATE 1952 01 01 *
AGENCY "WESTERN MAPPING CENTER (WMC)" *
PRODUCER "ANALYTICAL SURVEYS INC." *
PRODUCTION_SYSTEM "ORBIT OR_RECTIFY V.5.2" *
STANDARD_VERSION 1996 12 *
METADATA_DATE 1998 05 25 *
DATA_FILE_SIZE 49189680 *
BYTE_COUNT 6480 * * * * * * * * * * * * * * * * * * * * * * * * * * * * * * * * * * * * * *
END_USGS_HEADER *
