BEGIN_USGS_DOQ_HEADER *
QUADRANGLE_NAME "GALWAY LAKE" *
QUADRANT NW *
NORTH_LATITUDE 34 37 30.000 *
WEST_LONGITUDE -116 30 00.000 *
SOUTH_LATITUDE 34 33 45.000 *
EAST_LONGITUDE -116 26 15.000 *
PRODUCTION_DATE 1998 05 20 *
RASTER_ORDER LEFT_RIGHT/TOP_BOTTOM *
BAND_ORGANIZATION "SINGLE FILE" *
BAND_CONTENT BLACK&WHITE *
BITS_PER_PIXEL 8 *
SAMPLES_AND_LINES 6480 7590 *
HORIZONTAL_DATUM NAD83 *
HORIZONTAL_COORDINATE_SYSTEM UTM *
COORDINATE_ZONE 11 *
HORIZONTAL_UNITS METERS *
HORIZONTAL_RESOLUTION 1.000 *
SECONDARY_HORIZONTAL_DATUM NAD27 *
XY_ORIGIN 545430.000 3831930.000 *
SECONDARY_XY_ORIGIN 545509.612 3831734.783 *
NATION US *
STATE CA *
NW_QUAD_CORNER_XY 545833.209 3831571.909 *
NE_QUAD_CORNER_XY 551562.423 3831602.094 *
SE_QUAD_CORNER_XY 551601.055 3824671.425 *
SW_QUAD_CORNER_XY 545867.549 3824641.265 *
SECONDARY_NW_QUAD_XY 545834.259 3831375.491 *
SECONDARY_NE_QUAD_XY 551563.603 3831405.677 *
SECONDARY_SE_QUAD_XY 551602.234 3824475.201 *
SECONDARY_SW_QUAD_XY 545868.597 3824445.041 *
RMSE_XY 2.171 *
IMAGE_SOURCE "BLACK AND WHITE FILM" *
SOURCE_IMAGE_ID "NAPP 6825 258" *
SOURCE_IMAGE_DATE 1995 10 03 *
SOURCE_IMAGE_ID "NAPP 6826 70" *
SOURCE_IMAGE_DATE 1995 10 04 *
SOURCE_DEM_DATE 1954 01 01 *
AGENCY "WESTERN MAPPING CENTER (WMC)" *
PRODUCER "ANALYTICAL SURVEYS INC." *
PRODUCTION_SYSTEM "ORBIT OR_RECTIFY V.5.2" *
STANDARD_VERSION 1996 12 *
METADATA_DATE 1998 05 20 *
DATA_FILE_SIZE 49189680 *
BYTE_COUNT 6480 * * * * * * * * * * * * * * * * * * * * * * * * * * * * * * * * * * * *
END_USGS_HEADER *
