BEGIN_USGS_DOQ_HEADER *
QUADRANGLE_NAME "GALWAY LAKE" *
QUADRANT SE *
NORTH_LATITUDE 34 33 45.000 *
WEST_LONGITUDE -116 26 15.000 *
SOUTH_LATITUDE 34 30 00.000 *
EAST_LONGITUDE -116 22 30.000 *
PRODUCTION_DATE 1998 05 20 *
RASTER_ORDER LEFT_RIGHT/TOP_BOTTOM *
BAND_ORGANIZATION "SINGLE FILE" *
BAND_CONTENT BLACK&WHITE *
BITS_PER_PIXEL 8 *
SAMPLES_AND_LINES 6480 7620 *
HORIZONTAL_DATUM NAD83 *
HORIZONTAL_COORDINATE_SYSTEM UTM *
COORDINATE_ZONE 11 *
HORIZONTAL_UNITS METERS *
HORIZONTAL_RESOLUTION 1.000 *
SECONDARY_HORIZONTAL_DATUM NAD27 *
XY_ORIGIN 551220.000 3825030.000 *
SECONDARY_XY_ORIGIN 551299.420 3824834.892 *
NATION US *
STATE CA *
NW_QUAD_CORNER_XY 551601.055 3824671.425 *
NE_QUAD_CORNER_XY 557334.583 3824705.133 *
SE_QUAD_CORNER_XY 557377.440 3817774.507 *
SW_QUAD_CORNER_XY 551639.625 3817740.827 *
SECONDARY_NW_QUAD_XY 551602.234 3824475.201 *
SECONDARY_NE_QUAD_XY 557335.894 3824508.910 *
SECONDARY_SE_QUAD_XY 557378.749 3817578.478 *
SECONDARY_SW_QUAD_XY 551640.804 3817544.797 *
RMSE_XY 1.605 *
IMAGE_SOURCE "BLACK AND WHITE FILM" *
SOURCE_IMAGE_ID "NAPP 6826 72" *
SOURCE_IMAGE_DATE 1995 10 04 *
SOURCE_IMAGE_ID "NAPP 6826 73" *
SOURCE_IMAGE_DATE 1995 10 04 *
SOURCE_DEM_DATE 1954 01 01 *
AGENCY "WESTERN MAPPING CENTER (WMC)" *
PRODUCER "ANALYTICAL SURVEYS INC." *
PRODUCTION_SYSTEM "ORBIT OR_RECTIFY V.5.2" *
STANDARD_VERSION 1996 12 *
METADATA_DATE 1998 05 20 *
DATA_FILE_SIZE 49384080 *
BYTE_COUNT 6480 * * * * * * * * * * * * * * * * * * * * * * * * * * * * * * * * * * * *
END_USGS_HEADER *
