BEGIN_USGS_DOQ_HEADER *
QUADRANGLE_NAME "GALWAY LAKE" *
QUADRANT SW *
NORTH_LATITUDE 34 33 45.000 *
WEST_LONGITUDE -116 30 00.000 *
SOUTH_LATITUDE 34 30 00.000 *
EAST_LONGITUDE -116 26 15.000 *
PRODUCTION_DATE 1998 05 20 *
RASTER_ORDER LEFT_RIGHT/TOP_BOTTOM *
BAND_ORGANIZATION "SINGLE FILE" *
BAND_CONTENT BLACK&WHITE *
BITS_PER_PIXEL 8 *
SAMPLES_AND_LINES 6480 7620 *
HORIZONTAL_DATUM NAD83 *
HORIZONTAL_COORDINATE_SYSTEM UTM *
COORDINATE_ZONE 11 *
HORIZONTAL_UNITS METERS *
HORIZONTAL_RESOLUTION 1.000 *
SECONDARY_HORIZONTAL_DATUM NAD27 *
XY_ORIGIN 545460.000 3825000.000 *
SECONDARY_XY_ORIGIN 545539.535 3824804.805 *
NATION US *
STATE CA *
NW_QUAD_CORNER_XY 545867.549 3824641.265 *
NE_QUAD_CORNER_XY 551601.055 3824671.425 *
SE_QUAD_CORNER_XY 551639.625 3817740.827 *
SW_QUAD_CORNER_XY 545901.833 3817710.692 *
SECONDARY_NW_QUAD_XY 545868.597 3824445.041 *
SECONDARY_NE_QUAD_XY 551602.234 3824475.201 *
SECONDARY_SE_QUAD_XY 551640.804 3817544.797 *
SECONDARY_SW_QUAD_XY 545902.881 3817514.662 *
RMSE_XY 1.530 *
IMAGE_SOURCE "BLACK AND WHITE FILM" *
SOURCE_IMAGE_ID "NAPP 6825 256" *
SOURCE_IMAGE_DATE 1995 10 03 *
SOURCE_IMAGE_ID "NAPP 6809 13" *
SOURCE_IMAGE_DATE 1994 05 28 *
SOURCE_IMAGE_ID "NAPP 6826 72" *
SOURCE_IMAGE_DATE 1995 10 04 *
SOURCE_DEM_DATE 1954 01 01 *
AGENCY "WESTERN MAPPING CENTER (WMC)" *
PRODUCER "ANALYTICAL SURVEYS INC." *
PRODUCTION_SYSTEM "ORBIT OR_RECTIFY V.5.2" *
STANDARD_VERSION 1996 12 *
METADATA_DATE 1998 05 20 *
DATA_FILE_SIZE 49384080 *
BYTE_COUNT 6480 * * * * * * * * * * * * * * * * * * * * * * * * * * * * * * * * * *
END_USGS_HEADER *
