BEGIN_USGS_DOQ_HEADER *
QUADRANGLE_NAME "IRON RIDGE" *
QUADRANT NW *
NORTH_LATITUDE 34 37 30.000 *
WEST_LONGITUDE -116 37 30.000 *
SOUTH_LATITUDE 34 33 45.000 *
EAST_LONGITUDE -116 33 45.000 *
PRODUCTION_DATE 1998 05 20 *
RASTER_ORDER LEFT_RIGHT/TOP_BOTTOM *
BAND_ORGANIZATION "SINGLE FILE" *
BAND_CONTENT BLACK&WHITE *
BITS_PER_PIXEL 8 *
SAMPLES_AND_LINES 6480 7590 *
HORIZONTAL_DATUM NAD83 *
HORIZONTAL_COORDINATE_SYSTEM UTM *
COORDINATE_ZONE 11 *
HORIZONTAL_UNITS METERS *
HORIZONTAL_RESOLUTION 1.000 *
SECONDARY_HORIZONTAL_DATUM NAD27 *
XY_ORIGIN 533970.000 3831870.000 *
SECONDARY_XY_ORIGIN 534049.641 3831674.595 *
NATION US *
STATE CA *
NW_QUAD_CORNER_XY 534374.839 3831522.193 *
NE_QUAD_CORNER_XY 540104.015 3831545.275 *
SE_QUAD_CORNER_XY 540134.062 3824614.654 *
SW_QUAD_CORNER_XY 534400.593 3824591.591 *
SECONDARY_NW_QUAD_XY 534375.626 3831325.775 *
SECONDARY_NE_QUAD_XY 540104.934 3831348.857 *
SECONDARY_SE_QUAD_XY 540134.980 3824418.429 *
SECONDARY_SW_QUAD_XY 534401.379 3824395.366 *
RMSE_XY 1.158 *
IMAGE_SOURCE "BLACK AND WHITE FILM" *
SOURCE_IMAGE_ID "NAPP 6863 229" *
SOURCE_IMAGE_DATE 1994 05 31 *
SOURCE_IMAGE_ID "NAPP 6863 228" *
SOURCE_IMAGE_DATE 1994 05 31 *
SOURCE_IMAGE_ID "NAPP 6863 230" *
SOURCE_IMAGE_DATE 1994 05 31 *
SOURCE_DEM_DATE 1975 01 01 *
AGENCY "WESTERN MAPPING CENTER (WMC)" *
PRODUCER "ANALYTICAL SURVEYS INC." *
PRODUCTION_SYSTEM "ORBIT OR_RECTIFY V.5.2" *
STANDARD_VERSION 1996 12 *
METADATA_DATE 1998 05 20 *
DATA_FILE_SIZE 49189680 *
BYTE_COUNT 6480 * * * * * * * * * * * * * * * * * * * * * * * * * * * * * * * * * *
END_USGS_HEADER *
