BEGIN_USGS_DOQ_HEADER *
QUADRANGLE_NAME "FRY MOUNTAINS" *
QUADRANT NW *
NORTH_LATITUDE 34 37 30.000 *
WEST_LONGITUDE -116 45 00.000 *
SOUTH_LATITUDE 34 33 45.000 *
EAST_LONGITUDE -116 41 15.000 *
PRODUCTION_DATE 1998 05 12 *
RASTER_ORDER LEFT_RIGHT/TOP_BOTTOM *
BAND_ORGANIZATION "SINGLE FILE" *
BAND_CONTENT BLACK&WHITE *
BITS_PER_PIXEL 8 *
SAMPLES_AND_LINES 6480 7560 *
HORIZONTAL_DATUM NAD83 *
HORIZONTAL_COORDINATE_SYSTEM UTM *
COORDINATE_ZONE 11 *
HORIZONTAL_UNITS METERS *
HORIZONTAL_RESOLUTION 1.000 *
SECONDARY_HORIZONTAL_DATUM NAD27 *
XY_ORIGIN 522510.000 3831810.000 *
SECONDARY_XY_ORIGIN 522589.673 3831614.408 *
NATION US *
STATE CA *
NW_QUAD_CORNER_XY 522916.527 3831486.683 *
NE_QUAD_CORNER_XY 528645.677 3831502.663 *
SE_QUAD_CORNER_XY 528667.138 3824572.077 *
SW_QUAD_CORNER_XY 522933.696 3824556.110 *
SECONDARY_NW_QUAD_XY 522917.051 3831290.263 *
SECONDARY_NE_QUAD_XY 528646.333 3831306.243 *
SECONDARY_SE_QUAD_XY 528667.794 3824375.851 *
SECONDARY_SW_QUAD_XY 522934.220 3824359.884 *
RMSE_XY 1.585 *
IMAGE_SOURCE "BLACK AND WHITE FILM" *
SOURCE_IMAGE_ID "NAPP 6873 12" *
SOURCE_IMAGE_DATE 1995 10 01 *
SOURCE_DEM_DATE 1992 01 01 *
AGENCY "WESTERN MAPPING CENTER (WMC)" *
PRODUCER "ANALYTICAL SURVEYS INC." *
PRODUCTION_SYSTEM "ORBIT OR_RECTIFY V.5.2" *
STANDARD_VERSION 1996 12 *
METADATA_DATE 1998 05 13 *
DATA_FILE_SIZE 48995280 *
BYTE_COUNT 6480 * * * * * * * * * * * * * * * * * * * * * * * * * * * * * * * * * * * * * *
END_USGS_HEADER *
