BEGIN_USGS_DOQ_HEADER *
QUADRANGLE_NAME "FRY MOUNTAINS" *
QUADRANT SW *
NORTH_LATITUDE 34 33 45.000 *
WEST_LONGITUDE -116 45 00.000 *
SOUTH_LATITUDE 34 30 00.000 *
EAST_LONGITUDE -116 41 15.000 *
PRODUCTION_DATE 1998 05 12 *
RASTER_ORDER LEFT_RIGHT/TOP_BOTTOM *
BAND_ORGANIZATION "SINGLE FILE" *
BAND_CONTENT BLACK&WHITE *
BITS_PER_PIXEL 8 *
SAMPLES_AND_LINES 6450 7560 *
HORIZONTAL_DATUM NAD83 *
HORIZONTAL_COORDINATE_SYSTEM UTM *
COORDINATE_ZONE 11 *
HORIZONTAL_UNITS METERS *
HORIZONTAL_RESOLUTION 1.000 *
SECONDARY_HORIZONTAL_DATUM NAD27 *
XY_ORIGIN 522540.000 3824880.000 *
SECONDARY_XY_ORIGIN 522619.633 3824684.402 *
NATION US *
STATE CA *
NW_QUAD_CORNER_XY 522933.696 3824556.110 *
NE_QUAD_CORNER_XY 528667.138 3824572.077 *
SE_QUAD_CORNER_XY 528688.566 3817641.562 *
SW_QUAD_CORNER_XY 522950.838 3817625.609 *
SECONDARY_NW_QUAD_XY 522934.220 3824359.884 *
SECONDARY_NE_QUAD_XY 528667.794 3824375.851 *
SECONDARY_SE_QUAD_XY 528689.220 3817445.530 *
SECONDARY_SW_QUAD_XY 522951.361 3817429.577 *
RMSE_XY 1.277 *
IMAGE_SOURCE "BLACK AND WHITE FILM" *
SOURCE_IMAGE_ID "NAPP 6873 10" *
SOURCE_IMAGE_DATE 1995 10 01 *
SOURCE_DEM_DATE 1992 01 01 *
AGENCY "WESTERN MAPPING CENTER (WMC)" *
PRODUCER "ANALYTICAL SURVEYS INC." *
PRODUCTION_SYSTEM "ORBIT OR_RECTIFY V.5.2" *
STANDARD_VERSION 1996 12 *
METADATA_DATE 1998 05 13 *
DATA_FILE_SIZE 48768450 *
BYTE_COUNT 6450 * * * * * * * * * * * * * * * * * * * * * * * * * * * * * * * * * * * * * *
END_USGS_HEADER *
