BEGIN_USGS_DOQ_HEADER *
QUADRANGLE_NAME "GRAND VIEW MINE" *
QUADRANT SW *
NORTH_LATITUDE 34 33 45.000 *
WEST_LONGITUDE -116 52 30.000 *
SOUTH_LATITUDE 34 30 00.000 *
EAST_LONGITUDE -116 48 45.000 *
PRODUCTION_DATE 1998 05 27 *
RASTER_ORDER LEFT_RIGHT/TOP_BOTTOM *
BAND_ORGANIZATION "SINGLE FILE" *
BAND_CONTENT BLACK&WHITE *
BITS_PER_PIXEL 8 *
SAMPLES_AND_LINES 6450 7560 *
HORIZONTAL_DATUM NAD83 *
HORIZONTAL_COORDINATE_SYSTEM UTM *
COORDINATE_ZONE 11 *
HORIZONTAL_UNITS METERS *
HORIZONTAL_RESOLUTION 1.000 *
SECONDARY_HORIZONTAL_DATUM NAD27 *
XY_ORIGIN 511080.000 3824850.000 *
SECONDARY_XY_ORIGIN 511159.775 3824654.322 *
NATION US *
STATE CA *
NW_QUAD_CORNER_XY 511466.838 3824534.822 *
NE_QUAD_CORNER_XY 517200.263 3824543.692 *
SE_QUAD_CORNER_XY 517213.120 3817613.201 *
SW_QUAD_CORNER_XY 511475.409 3817604.338 *
SECONDARY_NW_QUAD_XY 511467.100 3824338.595 *
SECONDARY_NE_QUAD_XY 517200.656 3824347.466 *
SECONDARY_SE_QUAD_XY 517213.512 3817417.169 *
SECONDARY_SW_QUAD_XY 511475.671 3817408.306 *
RMSE_XY 0.980 *
IMAGE_SOURCE "BLACK AND WHITE FILM" *
SOURCE_IMAGE_ID "NAPP 6870 142" *
SOURCE_IMAGE_DATE 1994 06 08 *
SOURCE_DEM_DATE 1993 01 01 *
AGENCY "WESTERN MAPPING CENTER (WMC)" *
PRODUCER "ANALYTICAL SURVEYS INC." *
PRODUCTION_SYSTEM "ORBIT OR_RECTIFY V.5.2" *
STANDARD_VERSION 1996 12 *
METADATA_DATE 1998 05 27 *
DATA_FILE_SIZE 48768450 *
BYTE_COUNT 6450 * * * * * * * * * * * * * * * * * * * * * * * * * * * * * * * * * * * * * *
END_USGS_HEADER *
