BEGIN_USGS_DOQ_HEADER *
QUADRANGLE_NAME "LUDLOW" 3.45 or 7.5-min. name*
QUADRANT SE quadrant indicator if cell size = 3.75-minutes*
WEST_LONGITUDE -116 11 15.000 signed deg min sec SDDD MM SS.SSS*
EAST_LONGITUDE -116 7 30.000 signed deg min sec SDDD MM SS.SSS*
NORTH_LATITUDE 34 41 15.000 signed deg min sec SDDD MM SS.SSS*
SOUTH_LATITUDE 34 37 30.000 signed deg min sec SDDD MM SS.SSS*
PRODUCTION_DATE 1997 2 6 yyyy mm dd*
RASTER_ORDER LEFT_RIGHT/TOP_BOTTOM video display order*
BAND_ORGANIZATION "SINGLE FILE" single file or BSQ, or BIL or BIP*
BAND_CONTENT BLACK&WHITE black&white or red green blue*
BITS_PER_PIXEL 8 radiometric resolution*
SAMPLES_AND_LINES 6510 7590 number of columns and rows*
HORIZONTAL_DATUM NAD83 primary horizontal datum*
HORIZONTAL_COORDINATE_SYSTEM UTM *
COORDINATE_ZONE 11 coordinate system zone number*
HORIZONTAL_UNITS METERS coordinate system units*
HORIZONTAL_RESOLUTION 1.00 pixel horiz. ground sample distance*
SECONDARY_HORIZONTAL_DATUM NAD27 secondary horizontal datum*
XY_ORIGIN 574020.000 3839040.000 coord. of upper left pixel pri. datum*
SECONDARY_XY_ORIGIN 574099.139 3838845.121 coord upper left pixel sec datum*
NATION US nation code*
STATE CA state fip code*
NW_QUAD_CORNER_XY 574423.625 3838689.217 XY coords. of pri. NW quad corner*
NE_QUAD_CORNER_XY 580148.672 3838737.201 XY coords. of pri. NE quad corner*
SE_QUAD_CORNER_XY 580208.867 3831806.293 XY coords. of pri. SE quad corner*
SW_QUAD_CORNER_XY 574479.519 3831758.349 XY coords. of pri. SW quad corner*
SECONDARY_NW_QUAD_XY 574425.332 3838492.611 XY coords. - sec. NW quad cor.*
SECONDARY_NE_QUAD_XY 580150.511 3838540.596 XY coords. - sec. NE quad cor.*
SECONDARY_SE_QUAD_XY 580210.703 3831609.880 XY coords. - sec. SE quad cor.*
SECONDARY_SW_QUAD_XY 574481.225 3831561.936 XY coords. - sec. SW quad cor.*
RMSE_XY 3.40 doq horiz. accuracy*
IMAGE_SOURCE "BLACK AND WHITE FILM" b&w, cir, natural color, other*
SOURCE_IMAGE_ID "NAPP 6806 141" source image id*
SOURCE_IMAGE_DATE 1994 5 22 source image date as yyyy mm dd*
SOURCE_DEM_DATE 1997 2 6 source dem date yyyy mm dd*
AGENCY "WESTERN MAPPING CENTER (WMC)" oversight agency*
PRODUCER "Analytical Surveys" producer/contractor*
PRODUCTION_SYSTEM "ORBIT OR_RECTIFY V.5.2" production system*
STANDARD_VERSION 1996 12 version of DOQ standard*
METADATA_DATE 1997 10 31 date created or changed, yyyy mm dd*
DATA_FILE_SIZE 49417410 data set size in bytes*
BYTE_COUNT 6510 header byte count* * * * * * * * * * * * * * * * * * * * * * * * * * * * * * * * * * * * * * *
END_USGS_HEADER *
