BEGIN_USGS_DOQ_HEADER *
QUADRANGLE_NAME "LAVIC LAKE" *
QUADRANT NE *
NORTH_LATITUDE 34 45 00.000 *
WEST_LONGITUDE -116 18 45.000 *
SOUTH_LATITUDE 34 41 15.000 *
EAST_LONGITUDE -116 15 00.000 *
PRODUCTION_DATE 1998 05 22 *
RASTER_ORDER LEFT_RIGHT/TOP_BOTTOM *
BAND_ORGANIZATION "SINGLE FILE" *
BAND_CONTENT BLACK&WHITE *
BITS_PER_PIXEL 8 *
SAMPLES_AND_LINES 6480 7590 *
HORIZONTAL_DATUM NAD83 *
HORIZONTAL_COORDINATE_SYSTEM UTM *
COORDINATE_ZONE 11 *
HORIZONTAL_UNITS METERS *
HORIZONTAL_RESOLUTION 1.000 *
SECONDARY_HORIZONTAL_DATUM NAD27 *
XY_ORIGIN 562530.000 3845880.000 *
SECONDARY_XY_ORIGIN 562609.403 3845684.948 *
NATION US *
STATE CA *
NW_QUAD_CORNER_XY 562926.255 3845534.783 *
NE_QUAD_CORNER_XY 568646.935 3845575.691 *
SE_QUAD_CORNER_XY 568698.610 3838644.789 *
SW_QUAD_CORNER_XY 562973.624 3838603.915 *
SECONDARY_NW_QUAD_XY 562927.701 3845337.984 *
SECONDARY_NE_QUAD_XY 568648.512 3845378.892 *
SECONDARY_SE_QUAD_XY 568700.186 3838448.182 *
SECONDARY_SW_QUAD_XY 562975.068 3838407.308 *
RMSE_XY 1.554 *
IMAGE_SOURCE "BLACK AND WHITE FILM" *
SOURCE_IMAGE_ID "NAPP 6825 230" *
SOURCE_IMAGE_DATE 1995 10 03 *
SOURCE_IMAGE_ID "NAPP 6825 232" *
SOURCE_IMAGE_DATE 1995 10 03 *
SOURCE_DEM_DATE 1952 01 01 *
AGENCY "WESTERN MAPPING CENTER (WMC)" *
PRODUCER "ANALYTICAL SURVEYS INC." *
PRODUCTION_SYSTEM "ORBIT OR_RECTIFY V.5.2" *
STANDARD_VERSION 1996 12 *
METADATA_DATE 1998 05 22 *
DATA_FILE_SIZE 49189680 *
BYTE_COUNT 6480 * * * * * * * * * * * * * * * * * * * * * * * * * * * * * * * * * * * *
END_USGS_HEADER *
