BEGIN_USGS_DOQ_HEADER *
QUADRANGLE_NAME "LAVIC LAKE" *
QUADRANT NW *
NORTH_LATITUDE 34 45 00.000 *
WEST_LONGITUDE -116 22 30.000 *
SOUTH_LATITUDE 34 41 15.000 *
EAST_LONGITUDE -116 18 45.000 *
PRODUCTION_DATE 1998 05 22 *
RASTER_ORDER LEFT_RIGHT/TOP_BOTTOM *
BAND_ORGANIZATION "SINGLE FILE" *
BAND_CONTENT BLACK&WHITE *
BITS_PER_PIXEL 8 *
SAMPLES_AND_LINES 6480 7590 *
HORIZONTAL_DATUM NAD83 *
HORIZONTAL_COORDINATE_SYSTEM UTM *
COORDINATE_ZONE 11 *
HORIZONTAL_UNITS METERS *
HORIZONTAL_RESOLUTION 1.000 *
SECONDARY_HORIZONTAL_DATUM NAD27 *
XY_ORIGIN 556800.000 3845850.000 *
SECONDARY_XY_ORIGIN 556879.524 3845654.879 *
NATION US *
STATE CA *
NW_QUAD_CORNER_XY 557205.603 3845497.434 *
NE_QUAD_CORNER_XY 562926.255 3845534.783 *
SE_QUAD_CORNER_XY 562973.624 3838603.915 *
SW_QUAD_CORNER_XY 557248.664 3838566.597 *
SECONDARY_NW_QUAD_XY 557206.917 3845300.633 *
SECONDARY_NE_QUAD_XY 562927.701 3845337.984 *
SECONDARY_SE_QUAD_XY 562975.068 3838407.308 *
SECONDARY_SW_QUAD_XY 557249.977 3838369.988 *
RMSE_XY 1.509 *
IMAGE_SOURCE "BLACK AND WHITE FILM" *
SOURCE_IMAGE_ID "NAPP 6809 174" *
SOURCE_IMAGE_DATE 1994 05 28 *
SOURCE_IMAGE_ID "NAPP 6809 176" *
SOURCE_IMAGE_DATE 1994 05 28 *
SOURCE_IMAGE_ID "NAPP 6828 66" *
SOURCE_IMAGE_DATE 1995 10 04 *
SOURCE_DEM_DATE 1952 01 01 *
AGENCY "WESTERN MAPPING CENTER (WMC)" *
PRODUCER "ANALYTICAL SURVEYS INC." *
PRODUCTION_SYSTEM "ORBIT OR_RECTIFY V.5.2" *
STANDARD_VERSION 1996 12 *
METADATA_DATE 1998 05 24 *
DATA_FILE_SIZE 49189680 *
BYTE_COUNT 6480 * * * * * * * * * * * * * * * * * * * * * * * * * * * * * * * * * *
END_USGS_HEADER *
