BEGIN_USGS_DOQ_HEADER *
QUADRANGLE_NAME "SUNSHINE PEAK" *
QUADRANT NE *
NORTH_LATITUDE 34 45 00.000 *
WEST_LONGITUDE -116 26 15.000 *
SOUTH_LATITUDE 34 41 15.000 *
EAST_LONGITUDE -116 22 30.000 *
PRODUCTION_DATE 1998 05 22 *
RASTER_ORDER LEFT_RIGHT/TOP_BOTTOM *
BAND_ORGANIZATION "SINGLE FILE" *
BAND_CONTENT BLACK&WHITE *
BITS_PER_PIXEL 8 *
SAMPLES_AND_LINES 6450 7590 *
HORIZONTAL_DATUM NAD83 *
HORIZONTAL_COORDINATE_SYSTEM UTM *
COORDINATE_ZONE 11 *
HORIZONTAL_UNITS METERS *
HORIZONTAL_RESOLUTION 1.000 *
SECONDARY_HORIZONTAL_DATUM NAD27 *
XY_ORIGIN 551100.000 3845820.000 *
SECONDARY_XY_ORIGIN 551179.644 3845624.811 *
NATION US *
STATE CA *
NW_QUAD_CORNER_XY 551484.974 3845463.642 *
NE_QUAD_CORNER_XY 557205.603 3845497.434 *
SE_QUAD_CORNER_XY 557248.664 3838566.597 *
SW_QUAD_CORNER_XY 551523.729 3838532.833 *
SECONDARY_NW_QUAD_XY 551486.157 3845266.841 *
SECONDARY_NE_QUAD_XY 557206.917 3845300.633 *
SECONDARY_SE_QUAD_XY 557249.977 3838369.988 *
SECONDARY_SW_QUAD_XY 551524.911 3838336.223 *
RMSE_XY 1.727 *
IMAGE_SOURCE "BLACK AND WHITE FILM" *
SOURCE_IMAGE_ID "NAPP 6826 66" *
SOURCE_IMAGE_DATE 1995 10 04 *
SOURCE_IMAGE_ID "NAPP 6809 174" *
SOURCE_IMAGE_DATE 1994 05 28 *
SOURCE_DEM_DATE 1955 01 01 *
AGENCY "WESTERN MAPPING CENTER (WMC)" *
PRODUCER "ANALYTICAL SURVEYS INC." *
PRODUCTION_SYSTEM "ORBIT OR_RECTIFY V.5.2" *
STANDARD_VERSION 1996 12 *
METADATA_DATE 1998 05 26 *
DATA_FILE_SIZE 48961950 *
BYTE_COUNT 6450 * * * * * * * * * * * * * * * * * * * * * * * * * * * * * * * * * * * *
END_USGS_HEADER *
