BEGIN_USGS_DOQ_HEADER *
QUADRANGLE_NAME "SUNSHINE PEAK" *
QUADRANT SE *
NORTH_LATITUDE 34 41 15.000 *
WEST_LONGITUDE -116 26 15.000 *
SOUTH_LATITUDE 34 37 30.000 *
EAST_LONGITUDE -116 22 30.000 *
PRODUCTION_DATE 1998 05 14 *
RASTER_ORDER LEFT_RIGHT/TOP_BOTTOM *
BAND_ORGANIZATION "SINGLE FILE" *
BAND_CONTENT BLACK&WHITE *
BITS_PER_PIXEL 8 *
SAMPLES_AND_LINES 6480 7590 *
HORIZONTAL_DATUM NAD83 *
HORIZONTAL_COORDINATE_SYSTEM UTM *
COORDINATE_ZONE 11 *
HORIZONTAL_UNITS METERS *
HORIZONTAL_RESOLUTION 1.000 *
SECONDARY_HORIZONTAL_DATUM NAD27 *
XY_ORIGIN 551130.000 3838890.000 *
SECONDARY_XY_ORIGIN 551209.570 3838694.837 *
NATION US *
STATE CA *
NW_QUAD_CORNER_XY 551523.729 3838532.833 *
NE_QUAD_CORNER_XY 557248.664 3838566.597 *
SE_QUAD_CORNER_XY 557291.658 3831635.830 *
SW_QUAD_CORNER_XY 551562.423 3831602.094 *
SECONDARY_NW_QUAD_XY 551524.911 3838336.223 *
SECONDARY_NE_QUAD_XY 557249.977 3838369.988 *
SECONDARY_SE_QUAD_XY 557292.970 3831439.414 *
SECONDARY_SW_QUAD_XY 551563.603 3831405.677 *
RMSE_XY 2.754 *
IMAGE_SOURCE "BLACK AND WHITE FILM" *
SOURCE_IMAGE_ID "NAPP 6826 68" *
SOURCE_IMAGE_DATE 1995 10 04 *
SOURCE_DEM_DATE 1955 01 01 *
AGENCY "WESTERN MAPPING CENTER (WMC)" *
PRODUCER "ANALYTICAL SURVEYS INC." *
PRODUCTION_SYSTEM "ORBIT OR_RECTIFY V.5.2" *
STANDARD_VERSION 1996 12 *
METADATA_DATE 1998 05 18 *
DATA_FILE_SIZE 49189680 *
BYTE_COUNT 6480 * * * * * * * * * * * * * * * * * * * * * * * * * * * * * * * * * * * * * *
END_USGS_HEADER *
