BEGIN_USGS_DOQ_HEADER *
QUADRANGLE_NAME "SILVER BELL MINE" *
QUADRANT NE *
NORTH_LATITUDE 34 45 00.000 *
WEST_LONGITUDE -116 33 45.000 *
SOUTH_LATITUDE 34 41 15.000 *
EAST_LONGITUDE -116 30 00.000 *
PRODUCTION_DATE 1998 05 20 *
RASTER_ORDER LEFT_RIGHT/TOP_BOTTOM *
BAND_ORGANIZATION "SINGLE FILE" *
BAND_CONTENT BLACK&WHITE *
BITS_PER_PIXEL 8 *
SAMPLES_AND_LINES 6480 7590 *
HORIZONTAL_DATUM NAD83 *
HORIZONTAL_COORDINATE_SYSTEM UTM *
COORDINATE_ZONE 11 *
HORIZONTAL_UNITS METERS *
HORIZONTAL_RESOLUTION 1.000 *
SECONDARY_HORIZONTAL_DATUM NAD27 *
XY_ORIGIN 539640.000 3845760.000 *
SECONDARY_XY_ORIGIN 539719.759 3845564.662 *
NATION US *
STATE CA *
NW_QUAD_CORNER_XY 540043.779 3845406.730 *
NE_QUAD_CORNER_XY 545764.367 3845433.408 *
SE_QUAD_CORNER_XY 545798.815 3838502.623 *
SW_QUAD_CORNER_XY 540073.921 3838475.967 *
SECONDARY_NW_QUAD_XY 540044.699 3845209.928 *
SECONDARY_NE_QUAD_XY 545765.418 3845236.605 *
SECONDARY_SE_QUAD_XY 545799.866 3838306.013 *
SECONDARY_SW_QUAD_XY 540074.840 3838279.357 *
RMSE_XY 2.524 *
IMAGE_SOURCE "BLACK AND WHITE FILM" *
SOURCE_IMAGE_ID "NAPP 6863 222" *
SOURCE_IMAGE_DATE 1994 05 31 *
SOURCE_DEM_DATE 1955 01 01 *
AGENCY "WESTERN MAPPING CENTER (WMC)" *
PRODUCER "ANALYTICAL SURVEYS INC." *
PRODUCTION_SYSTEM "ORBIT OR_RECTIFY V.5.2" *
STANDARD_VERSION 1996 12 *
METADATA_DATE 1998 05 20 *
DATA_FILE_SIZE 49189680 *
BYTE_COUNT 6480 * * * * * * * * * * * * * * * * * * * * * * * * * * * * * * * * * * * * * *
END_USGS_HEADER *
