BEGIN_USGS_DOQ_HEADER *
QUADRANGLE_NAME "SILVER BELL MINE" *
QUADRANT SW *
NORTH_LATITUDE 34 41 15.000 *
WEST_LONGITUDE -116 37 30.000 *
SOUTH_LATITUDE 34 37 30.000 *
EAST_LONGITUDE -116 33 45.000 *
PRODUCTION_DATE 1998 05 20 *
RASTER_ORDER LEFT_RIGHT/TOP_BOTTOM *
BAND_ORGANIZATION "SINGLE FILE" *
BAND_CONTENT BLACK&WHITE *
BITS_PER_PIXEL 8 *
SAMPLES_AND_LINES 6450 7590 *
HORIZONTAL_DATUM NAD83 *
HORIZONTAL_COORDINATE_SYSTEM UTM *
COORDINATE_ZONE 11 *
HORIZONTAL_UNITS METERS *
HORIZONTAL_RESOLUTION 1.000 *
SECONDARY_HORIZONTAL_DATUM NAD27 *
XY_ORIGIN 533970.000 3838800.000 *
SECONDARY_XY_ORIGIN 534049.699 3838604.589 *
NATION US *
STATE CA *
NW_QUAD_CORNER_XY 534349.044 3838452.866 *
NE_QUAD_CORNER_XY 540073.921 3838475.967 *
SE_QUAD_CORNER_XY 540104.015 3831545.275 *
SW_QUAD_CORNER_XY 534374.839 3831522.193 *
SECONDARY_NW_QUAD_XY 534349.832 3838256.255 *
SECONDARY_NE_QUAD_XY 540074.840 3838279.357 *
SECONDARY_SE_QUAD_XY 540104.934 3831348.857 *
SECONDARY_SW_QUAD_XY 534375.626 3831325.775 *
RMSE_XY 0.676 *
IMAGE_SOURCE "BLACK AND WHITE FILM" *
SOURCE_IMAGE_ID "NAPP 6863 227" *
SOURCE_IMAGE_DATE 1994 05 31 *
SOURCE_IMAGE_ID "NAPP 6863 228" *
SOURCE_IMAGE_DATE 1994 05 31 *
SOURCE_IMAGE_ID "NAPP 6863 226" *
SOURCE_IMAGE_DATE 1994 05 31 *
SOURCE_DEM_DATE 1955 01 01 *
AGENCY "WESTERN MAPPING CENTER (WMC)" *
PRODUCER "ANALYTICAL SURVEYS INC." *
PRODUCTION_SYSTEM "ORBIT OR_RECTIFY V.5.2" *
STANDARD_VERSION 1996 12 *
METADATA_DATE 1998 05 20 *
DATA_FILE_SIZE 48961950 *
BYTE_COUNT 6450 * * * * * * * * * * * * * * * * * * * * * * * * * * * * * * * * * *
END_USGS_HEADER *
