BEGIN_USGS_DOQ_HEADER *
QUADRANGLE_NAME "CAMP ROCK MINE" *
QUADRANT NE *
NORTH_LATITUDE 34 45 00.000 *
WEST_LONGITUDE -116 41 15.000 *
SOUTH_LATITUDE 34 41 15.000 *
EAST_LONGITUDE -116 37 30.000 *
PRODUCTION_DATE 1998 05 27 *
RASTER_ORDER LEFT_RIGHT/TOP_BOTTOM *
BAND_ORGANIZATION "SINGLE FILE" *
BAND_CONTENT BLACK&WHITE *
BITS_PER_PIXEL 8 *
SAMPLES_AND_LINES 6450 7590 *
HORIZONTAL_DATUM NAD83 *
HORIZONTAL_COORDINATE_SYSTEM UTM *
COORDINATE_ZONE 11 *
HORIZONTAL_UNITS METERS *
HORIZONTAL_RESOLUTION 1.000 *
SECONDARY_HORIZONTAL_DATUM NAD27 *
XY_ORIGIN 528210.000 3845700.000 *
SECONDARY_XY_ORIGIN 528289.755 3845504.503 *
NATION US *
STATE CA *
NW_QUAD_CORNER_XY 528602.651 3845364.047 *
NE_QUAD_CORNER_XY 534323.208 3845383.610 *
SE_QUAD_CORNER_XY 534349.044 3838452.866 *
SW_QUAD_CORNER_XY 528624.181 3838433.319 *
SECONDARY_NW_QUAD_XY 528603.308 3845167.243 *
SECONDARY_NE_QUAD_XY 534323.996 3845186.807 *
SECONDARY_SE_QUAD_XY 534349.832 3838256.255 *
SECONDARY_SW_QUAD_XY 528624.837 3838236.708 *
RMSE_XY 3.073 *
IMAGE_SOURCE "BLACK AND WHITE FILM" *
SOURCE_IMAGE_ID "NAPP 6874 174" *
SOURCE_IMAGE_DATE 1995 10 02 *
SOURCE_IMAGE_ID "NAPP 6871 2" *
SOURCE_IMAGE_DATE 1995 09 30 *
SOURCE_IMAGE_ID "NAPP 6863 225" *
SOURCE_IMAGE_DATE 1994 05 31 *
SOURCE_IMAGE_ID "NAPP 6873 16" *
SOURCE_IMAGE_DATE 1995 10 01 *
SOURCE_DEM_DATE 1993 01 01 *
AGENCY "WESTERN MAPPING CENTER (WMC)" *
PRODUCER "ANALYTICAL SURVEYS INC." *
PRODUCTION_SYSTEM "ORBIT OR_RECTIFY V.5.2" *
STANDARD_VERSION 1996 12 *
METADATA_DATE 1998 05 27 *
DATA_FILE_SIZE 48961950 *
BYTE_COUNT 6450 * * * * * * * * * * * * * * * * * * * * * * * * * * * * * * * *
END_USGS_HEADER *
