BEGIN_USGS_DOQ_HEADER *
QUADRANGLE_NAME "CAMP ROCK MINE" *
QUADRANT NW *
NORTH_LATITUDE 34 45 00.000 *
WEST_LONGITUDE -116 45 00.000 *
SOUTH_LATITUDE 34 41 15.000 *
EAST_LONGITUDE -116 41 15.000 *
PRODUCTION_DATE 1998 05 27 *
RASTER_ORDER LEFT_RIGHT/TOP_BOTTOM *
BAND_ORGANIZATION "SINGLE FILE" *
BAND_CONTENT BLACK&WHITE *
BITS_PER_PIXEL 8 *
SAMPLES_AND_LINES 6450 7560 *
HORIZONTAL_DATUM NAD83 *
HORIZONTAL_COORDINATE_SYSTEM UTM *
COORDINATE_ZONE 11 *
HORIZONTAL_UNITS METERS *
HORIZONTAL_RESOLUTION 1.000 *
SECONDARY_HORIZONTAL_DATUM NAD27 *
XY_ORIGIN 522480.000 3845670.000 *
SECONDARY_XY_ORIGIN 522559.753 3845474.424 *
NATION US *
STATE CA *
NW_QUAD_CORNER_XY 522882.106 3845348.041 *
NE_QUAD_CORNER_XY 528602.651 3845364.047 *
SE_QUAD_CORNER_XY 528624.181 3838433.319 *
SW_QUAD_CORNER_XY 522899.330 3838417.327 *
SECONDARY_NW_QUAD_XY 522882.632 3845151.237 *
SECONDARY_NE_QUAD_XY 528603.308 3845167.243 *
SECONDARY_SE_QUAD_XY 528624.837 3838236.708 *
SECONDARY_SW_QUAD_XY 522899.855 3838220.714 *
RMSE_XY 1.481 *
IMAGE_SOURCE "BLACK AND WHITE FILM" *
SOURCE_IMAGE_ID "NAPP 6873 16" *
SOURCE_IMAGE_DATE 1995 10 01 *
SOURCE_DEM_DATE 1993 01 01 *
AGENCY "WESTERN MAPPING CENTER (WMC)" *
PRODUCER "ANALYTICAL SURVEYS INC." *
PRODUCTION_SYSTEM "ORBIT OR_RECTIFY V.5.2" *
STANDARD_VERSION 1996 12 *
METADATA_DATE 1998 05 27 *
DATA_FILE_SIZE 48768450 *
BYTE_COUNT 6450 * * * * * * * * * * * * * * * * * * * * * * * * * * * * * * * * * * * * * *
END_USGS_HEADER *
