BEGIN_USGS_DOQ_HEADER *
QUADRANGLE_NAME "CAMP ROCK MINE" *
QUADRANT SE *
NORTH_LATITUDE 34 41 15.000 *
WEST_LONGITUDE -116 41 15.000 *
SOUTH_LATITUDE 34 37 30.000 *
EAST_LONGITUDE -116 37 30.000 *
PRODUCTION_DATE 1998 05 27 *
RASTER_ORDER LEFT_RIGHT/TOP_BOTTOM *
BAND_ORGANIZATION "SINGLE FILE" *
BAND_CONTENT BLACK&WHITE *
BITS_PER_PIXEL 8 *
SAMPLES_AND_LINES 6450 7590 *
HORIZONTAL_DATUM NAD83 *
HORIZONTAL_COORDINATE_SYSTEM UTM *
COORDINATE_ZONE 11 *
HORIZONTAL_UNITS METERS *
HORIZONTAL_RESOLUTION 1.000 *
SECONDARY_HORIZONTAL_DATUM NAD27 *
XY_ORIGIN 528240.000 3838770.000 *
SECONDARY_XY_ORIGIN 528319.706 3838574.503 *
NATION US *
STATE CA *
NW_QUAD_CORNER_XY 528624.181 3838433.319 *
NE_QUAD_CORNER_XY 534349.044 3838452.866 *
SE_QUAD_CORNER_XY 534374.839 3831522.193 *
SW_QUAD_CORNER_XY 528645.677 3831502.663 *
SECONDARY_NW_QUAD_XY 528624.837 3838236.708 *
SECONDARY_NE_QUAD_XY 534349.832 3838256.255 *
SECONDARY_SE_QUAD_XY 534375.626 3831325.775 *
SECONDARY_SW_QUAD_XY 528646.333 3831306.243 *
RMSE_XY 1.251 *
IMAGE_SOURCE "BLACK AND WHITE FILM" *
SOURCE_IMAGE_ID "NAPP 6874 172" *
SOURCE_IMAGE_DATE 1995 10 02 *
SOURCE_IMAGE_ID "NAPP 6873 14" *
SOURCE_IMAGE_DATE 1995 10 01 *
SOURCE_DEM_DATE 1993 01 01 *
AGENCY "WESTERN MAPPING CENTER (WMC)" *
PRODUCER "ANALYTICAL SURVEYS INC." *
PRODUCTION_SYSTEM "ORBIT OR_RECTIFY V.5.2" *
STANDARD_VERSION 1996 12 *
METADATA_DATE 1998 05 27 *
DATA_FILE_SIZE 48961950 *
BYTE_COUNT 6450 * * * * * * * * * * * * * * * * * * * * * * * * * * * * * * * * * * * *
END_USGS_HEADER *
