BEGIN_USGS_DOQ_HEADER *
QUADRANGLE_NAME "ORD MOUNTAIN" *
QUADRANT SW *
NORTH_LATITUDE 34 41 15.000 *
WEST_LONGITUDE -116 52 30.000 *
SOUTH_LATITUDE 34 37 30.000 *
EAST_LONGITUDE -116 48 45.000 *
PRODUCTION_DATE 1998 05 27 *
RASTER_ORDER LEFT_RIGHT/TOP_BOTTOM *
BAND_ORGANIZATION "SINGLE FILE" *
BAND_CONTENT BLACK&WHITE *
BITS_PER_PIXEL 8 *
SAMPLES_AND_LINES 6450 7560 *
HORIZONTAL_DATUM NAD83 *
HORIZONTAL_COORDINATE_SYSTEM UTM *
COORDINATE_ZONE 11 *
HORIZONTAL_UNITS METERS *
HORIZONTAL_RESOLUTION 1.000 *
SECONDARY_HORIZONTAL_DATUM NAD27 *
XY_ORIGIN 511050.000 3838710.000 *
SECONDARY_XY_ORIGIN 511129.796 3838514.403 *
NATION US *
STATE CA *
NW_QUAD_CORNER_XY 511449.655 3838396.003 *
NE_QUAD_CORNER_XY 517174.489 3838404.888 *
SE_QUAD_CORNER_XY 517187.386 3831474.254 *
SW_QUAD_CORNER_XY 511458.254 3831465.377 *
SECONDARY_NW_QUAD_XY 511449.918 3838199.390 *
SECONDARY_NE_QUAD_XY 517174.883 3838208.275 *
SECONDARY_SE_QUAD_XY 517187.780 3831277.835 *
SECONDARY_SW_QUAD_XY 511458.516 3831268.957 *
RMSE_XY 2.459 *
IMAGE_SOURCE "BLACK AND WHITE FILM" *
SOURCE_IMAGE_ID "NAPP 6870 138" *
SOURCE_IMAGE_DATE 1994 06 08 *
SOURCE_IMAGE_ID "NAPP 6864 104" *
SOURCE_IMAGE_DATE 1994 05 31 *
SOURCE_IMAGE_ID "NAPP 6870 136" *
SOURCE_IMAGE_DATE 1994 06 08 *
SOURCE_IMAGE_ID "NAPP 6870 140" *
SOURCE_IMAGE_DATE 1994 06 08 *
SOURCE_DEM_DATE 1993 01 01 *
AGENCY "WESTERN MAPPING CENTER (WMC)" *
PRODUCER "ANALYTICAL SURVEYS INC." *
PRODUCTION_SYSTEM "ORBIT OR_RECTIFY V.5.2" *
STANDARD_VERSION 1996 12 *
METADATA_DATE 1998 05 27 *
DATA_FILE_SIZE 48768450 *
BYTE_COUNT 6450 * * * * * * * * * * * * * * * * * * * * * * * * * * * * * * * *
END_USGS_HEADER *
