BEGIN_USGS_DOQ_HEADER *
QUADRANGLE_NAME "WEST ORD MOUNTAIN" *
QUADRANT NW *
NORTH_LATITUDE 34 45 00.000 *
WEST_LONGITUDE -117 00 00.000 *
SOUTH_LATITUDE 34 41 15.000 *
EAST_LONGITUDE -116 56 15.000 *
PRODUCTION_DATE 1998 05 08 *
RASTER_ORDER LEFT_RIGHT/TOP_BOTTOM *
BAND_ORGANIZATION "SINGLE FILE" *
BAND_CONTENT BLACK&WHITE *
BITS_PER_PIXEL 8 *
SAMPLES_AND_LINES 6420 7560 *
HORIZONTAL_DATUM NAD83 *
HORIZONTAL_COORDINATE_SYSTEM UTM *
COORDINATE_ZONE 11 *
HORIZONTAL_UNITS METERS *
HORIZONTAL_RESOLUTION 1.000 *
SECONDARY_HORIZONTAL_DATUM NAD27 *
XY_ORIGIN 499620.000 3845640.000 *
SECONDARY_XY_ORIGIN 499699.857 3845444.462 *
NATION US *
STATE CA *
NW_QUAD_CORNER_XY 500000.000 3845319.586 *
NE_QUAD_CORNER_XY 505720.521 3845321.365 *
SE_QUAD_CORNER_XY 505724.826 3838390.672 *
SW_QUAD_CORNER_XY 500000.000 3838388.895 *
SECONDARY_NW_QUAD_XY 500000.000 3845122.782 *
SECONDARY_NE_QUAD_XY 505720.652 3845124.560 *
SECONDARY_SE_QUAD_XY 505724.958 3838194.059 *
SECONDARY_SW_QUAD_XY 500000.000 3838192.282 *
RMSE_XY 2.042 *
IMAGE_SOURCE "BLACK AND WHITE FILM" *
SOURCE_IMAGE_ID "NAPP 6880 80" *
SOURCE_IMAGE_DATE 1995 10 07 *
SOURCE_DEM_DATE 1993 01 01 *
AGENCY "WESTERN MAPPING CENTER (WMC)" *
PRODUCER "ANALYTICAL SURVEYS INC." *
PRODUCTION_SYSTEM "ORBIT OR_RECTIFY V.5.2" *
STANDARD_VERSION 1996 12 *
METADATA_DATE 1998 05 11 *
DATA_FILE_SIZE 48541620 *
BYTE_COUNT 6420 * * * * * * * * * * * * * * * * * * * * * * * * * * * * * * * * * * * * * *
END_USGS_HEADER *
