BEGIN_USGS_DOQ_HEADER *
QUADRANGLE_NAME "WEST ORD MOUNTAIN" *
QUADRANT SE *
NORTH_LATITUDE 34 41 15.000 *
WEST_LONGITUDE -116 56 15.000 *
SOUTH_LATITUDE 34 37 30.000 *
EAST_LONGITUDE -116 52 30.000 *
PRODUCTION_DATE 1998 05 08 *
RASTER_ORDER LEFT_RIGHT/TOP_BOTTOM *
BAND_ORGANIZATION "SINGLE FILE" *
BAND_CONTENT BLACK&WHITE *
BITS_PER_PIXEL 8 *
SAMPLES_AND_LINES 6450 7560 *
HORIZONTAL_DATUM NAD83 *
HORIZONTAL_COORDINATE_SYSTEM UTM *
COORDINATE_ZONE 11 *
HORIZONTAL_UNITS METERS *
HORIZONTAL_RESOLUTION 1.000 *
SECONDARY_HORIZONTAL_DATUM NAD27 *
XY_ORIGIN 505320.000 3838710.000 *
SECONDARY_XY_ORIGIN 505399.836 3838514.395 *
NATION US *
STATE CA *
NW_QUAD_CORNER_XY 505724.826 3838390.672 *
NE_QUAD_CORNER_XY 511449.655 3838396.003 *
SE_QUAD_CORNER_XY 511458.254 3831465.377 *
SW_QUAD_CORNER_XY 505729.126 3831460.050 *
SECONDARY_NW_QUAD_XY 505724.958 3838194.059 *
SECONDARY_NE_QUAD_XY 511449.918 3838199.390 *
SECONDARY_SE_QUAD_XY 511458.516 3831268.957 *
SECONDARY_SW_QUAD_XY 505729.257 3831263.630 *
RMSE_XY 1.877 *
IMAGE_SOURCE "BLACK AND WHITE FILM" *
SOURCE_IMAGE_ID "NAPP 6870 145" *
SOURCE_IMAGE_DATE 1994 06 08 *
SOURCE_DEM_DATE 1993 01 01 *
AGENCY "WESTERN MAPPING CENTER (WMC)" *
PRODUCER "ANALYTICAL SURVEYS INC." *
PRODUCTION_SYSTEM "ORBIT OR_RECTIFY V.5.2" *
STANDARD_VERSION 1996 12 *
METADATA_DATE 1998 05 11 *
DATA_FILE_SIZE 48768450 *
BYTE_COUNT 6450 * * * * * * * * * * * * * * * * * * * * * * * * * * * * * * * * * * * * * *
END_USGS_HEADER *
