BEGIN_USGS_DOQ_HEADER *
QUADRANGLE_NAME "EAST OF BROADWELL LAKE" 3.45 or 7.5-min. name*
QUADRANT SW quadrant indicator if cell size = 3.75-minutes*
WEST_LONGITUDE -116 7 30.000 signed deg min sec SDDD MM SS.SSS*
EAST_LONGITUDE -116 3 45.000 signed deg min sec SDDD MM SS.SSS*
NORTH_LATITUDE 34 48 45.000 signed deg min sec SDDD MM SS.SSS*
SOUTH_LATITUDE 34 45 0.000 signed deg min sec SDDD MM SS.SSS*
PRODUCTION_DATE 1997 2 6 yyyy mm dd*
RASTER_ORDER LEFT_RIGHT/TOP_BOTTOM video display order*
BAND_ORGANIZATION "SINGLE FILE" single file or BSQ, or BIL or BIP*
BAND_CONTENT BLACK&WHITE black&white or red green blue*
BITS_PER_PIXEL 8 radiometric resolution*
SAMPLES_AND_LINES 6480 7620 number of columns and rows*
HORIZONTAL_DATUM NAD83 primary horizontal datum*
HORIZONTAL_COORDINATE_SYSTEM UTM *
COORDINATE_ZONE 11 coordinate system zone number*
HORIZONTAL_UNITS METERS coordinate system units*
HORIZONTAL_RESOLUTION 1.00 pixel horiz. ground sample distance*
SECONDARY_HORIZONTAL_DATUM NAD27 secondary horizontal datum*
XY_ORIGIN 579630.000 3852960.000 coord. of upper left pixel pri. datum*
SECONDARY_XY_ORIGIN 579709.101 3852765.040 coord upper left pixel sec datum*
NATION US nation code*
STATE CA state fip code*
NW_QUAD_CORNER_XY 580027.997 3852599.225 XY coords. of pri. NW quad corner*
NE_QUAD_CORNER_XY 585744.456 3852650.848 XY coords. of pri. NE quad corner*
SE_QUAD_CORNER_XY 585809.155 3845719.759 XY coords. of pri. SE quad corner*
SW_QUAD_CORNER_XY 580088.382 3845668.178 XY coords. of pri. SW quad corner*
SECONDARY_NW_QUAD_XY 580029.839 3852402.238 XY coords. - sec. NW quad cor.*
SECONDARY_NE_QUAD_XY 585746.429 3852453.862 XY coords. - sec. NE quad cor.*
SECONDARY_SE_QUAD_XY 585811.127 3845522.964 XY coords. - sec. SE quad cor.*
SECONDARY_SW_QUAD_XY 580090.222 3845471.381 XY coords. - sec. SW quad cor.*
RMSE_XY 1.60 doq horiz. accuracy*
IMAGE_SOURCE "BLACK AND WHITE FILM" b&w, cir, natural color, other*
SOURCE_IMAGE_ID "NAPP 6806 043" source image id*
SOURCE_IMAGE_DATE 1994 5 22 source image date as yyyy mm dd*
SOURCE_DEM_DATE 1997 2 6 source dem date yyyy mm dd*
AGENCY "WESTERN MAPPING CENTER (WMC)" oversight agency*
PRODUCER "Analytical Surveys" producer/contractor*
PRODUCTION_SYSTEM "ORBIT OR_RECTIFY V.5.2" production system*
STANDARD_VERSION 1996 12 version of DOQ standard*
METADATA_DATE 1997 10 31 date created or changed, yyyy mm dd*
DATA_FILE_SIZE 49384080 data set size in bytes*
BYTE_COUNT 6480 header byte count* * * * * * * * * * * * * * * * * * * * * * * * * * * * * * * * * * * * * *
END_USGS_HEADER *
