BEGIN_USGS_DOQ_HEADER *
QUADRANGLE_NAME "SLEEPING BEAUTY" *
QUADRANT SE *
NORTH_LATITUDE 34 48 45.000 *
WEST_LONGITUDE -116 18 45.000 *
SOUTH_LATITUDE 34 45 00.000 *
EAST_LONGITUDE -116 15 00.000 *
PRODUCTION_DATE 1998 05 14 *
RASTER_ORDER LEFT_RIGHT/TOP_BOTTOM *
BAND_ORGANIZATION "SINGLE FILE" *
BAND_CONTENT BLACK&WHITE *
BITS_PER_PIXEL 8 *
SAMPLES_AND_LINES 6450 7590 *
HORIZONTAL_DATUM NAD83 *
HORIZONTAL_COORDINATE_SYSTEM UTM *
COORDINATE_ZONE 11 *
HORIZONTAL_UNITS METERS *
HORIZONTAL_RESOLUTION 1.000 *
SECONDARY_HORIZONTAL_DATUM NAD27 *
XY_ORIGIN 562500.000 3852810.000 *
SECONDARY_XY_ORIGIN 562579.371 3852614.886 *
NATION US *
STATE CA *
NW_QUAD_CORNER_XY 562878.812 3852465.722 *
NE_QUAD_CORNER_XY 568595.177 3852506.662 *
SE_QUAD_CORNER_XY 568646.935 3845575.691 *
SW_QUAD_CORNER_XY 562926.255 3845534.783 *
SECONDARY_NW_QUAD_XY 562880.259 3852268.731 *
SECONDARY_NE_QUAD_XY 568596.756 3852309.672 *
SECONDARY_SE_QUAD_XY 568648.512 3845378.892 *
SECONDARY_SW_QUAD_XY 562927.701 3845337.984 *
RMSE_XY 3.542 *
IMAGE_SOURCE "BLACK AND WHITE FILM" *
SOURCE_IMAGE_ID "NAPP 6825 228" *
SOURCE_IMAGE_DATE 1995 10 03 *
SOURCE_DEM_DATE 1975 01 01 *
AGENCY "WESTERN MAPPING CENTER (WMC)" *
PRODUCER "ANALYTICAL SURVEYS INC." *
PRODUCTION_SYSTEM "ORBIT OR_RECTIFY V.5.2" *
STANDARD_VERSION 1996 12 *
METADATA_DATE 1998 05 18 *
DATA_FILE_SIZE 48961950 *
BYTE_COUNT 6450 * * * * * * * * * * * * * * * * * * * * * * * * * * * * * * * * * * * * * *
END_USGS_HEADER *
