BEGIN_USGS_DOQ_HEADER *
QUADRANGLE_NAME "HECTOR" *
QUADRANT SE *
NORTH_LATITUDE 34 48 45.000 *
WEST_LONGITUDE -116 26 15.000 *
SOUTH_LATITUDE 34 45 00.000 *
EAST_LONGITUDE -116 22 30.000 *
PRODUCTION_DATE 1998 05 14 *
RASTER_ORDER LEFT_RIGHT/TOP_BOTTOM *
BAND_ORGANIZATION "SINGLE FILE" *
BAND_CONTENT BLACK&WHITE *
BITS_PER_PIXEL 8 *
SAMPLES_AND_LINES 6480 7590 *
HORIZONTAL_DATUM NAD83 *
HORIZONTAL_COORDINATE_SYSTEM UTM *
COORDINATE_ZONE 11 *
HORIZONTAL_UNITS METERS *
HORIZONTAL_RESOLUTION 1.000 *
SECONDARY_HORIZONTAL_DATUM NAD27 *
XY_ORIGIN 551040.000 3852750.000 *
SECONDARY_XY_ORIGIN 551119.579 3852554.758 *
NATION US *
STATE CA *
NW_QUAD_CORNER_XY 551446.157 3852394.522 *
NE_QUAD_CORNER_XY 557162.473 3852428.342 *
SE_QUAD_CORNER_XY 557205.603 3845497.434 *
SW_QUAD_CORNER_XY 551484.974 3845463.642 *
SECONDARY_NW_QUAD_XY 551447.341 3852197.530 *
SECONDARY_NE_QUAD_XY 557163.788 3852231.350 *
SECONDARY_SE_QUAD_XY 557206.917 3845300.633 *
SECONDARY_SW_QUAD_XY 551486.157 3845266.841 *
RMSE_XY 1.495 *
IMAGE_SOURCE "BLACK AND WHITE FILM" *
SOURCE_IMAGE_ID "NAPP 6826 64" *
SOURCE_IMAGE_DATE 1995 10 04 *
SOURCE_DEM_DATE 1975 01 01 *
AGENCY "WESTERN MAPPING CENTER (WMC)" *
PRODUCER "ANALYTICAL SURVEYS INC." *
PRODUCTION_SYSTEM "ORBIT OR_RECTIFY V.5.2" *
STANDARD_VERSION 1996 12 *
METADATA_DATE 1998 05 18 *
DATA_FILE_SIZE 49189680 *
BYTE_COUNT 6480 * * * * * * * * * * * * * * * * * * * * * * * * * * * * * * * * * * * * * *
END_USGS_HEADER *
