BEGIN_USGS_DOQ_HEADER *
QUADRANGLE_NAME "HECTOR" *
QUADRANT SW *
NORTH_LATITUDE 34 48 45.000 *
WEST_LONGITUDE -116 30 00.000 *
SOUTH_LATITUDE 34 45 00.000 *
EAST_LONGITUDE -116 26 15.000 *
PRODUCTION_DATE 1998 05 14 *
RASTER_ORDER LEFT_RIGHT/TOP_BOTTOM *
BAND_ORGANIZATION "SINGLE FILE" *
BAND_CONTENT BLACK&WHITE *
BITS_PER_PIXEL 8 *
SAMPLES_AND_LINES 6450 7590 *
HORIZONTAL_DATUM NAD83 *
HORIZONTAL_COORDINATE_SYSTEM UTM *
COORDINATE_ZONE 11 *
HORIZONTAL_UNITS METERS *
HORIZONTAL_RESOLUTION 1.000 *
SECONDARY_HORIZONTAL_DATUM NAD27 *
XY_ORIGIN 545340.000 3852720.000 *
SECONDARY_XY_ORIGIN 545419.682 3852524.694 *
NATION US *
STATE CA *
NW_QUAD_CORNER_XY 545729.863 3852364.263 *
NE_QUAD_CORNER_XY 551446.157 3852394.522 *
SE_QUAD_CORNER_XY 551484.974 3845463.642 *
SW_QUAD_CORNER_XY 545764.367 3845433.408 *
SECONDARY_NW_QUAD_XY 545730.916 3852167.270 *
SECONDARY_NE_QUAD_XY 551447.341 3852197.530 *
SECONDARY_SE_QUAD_XY 551486.157 3845266.841 *
SECONDARY_SW_QUAD_XY 545765.418 3845236.605 *
RMSE_XY 3.476 *
IMAGE_SOURCE "BLACK AND WHITE FILM" *
SOURCE_IMAGE_ID "NAPP 6809 22" *
SOURCE_IMAGE_DATE 1994 05 28 *
SOURCE_DEM_DATE 1975 01 01 *
AGENCY "WESTERN MAPPING CENTER (WMC)" *
PRODUCER "ANALYTICAL SURVEYS INC." *
PRODUCTION_SYSTEM "ORBIT OR_RECTIFY V.5.2" *
STANDARD_VERSION 1996 12 *
METADATA_DATE 1998 05 18 *
DATA_FILE_SIZE 48961950 *
BYTE_COUNT 6450 * * * * * * * * * * * * * * * * * * * * * * * * * * * * * * * * * * * * * *
END_USGS_HEADER *
