BEGIN_USGS_DOQ_HEADER *
QUADRANGLE_NAME "MINNEOLA" *
QUADRANT NE *
NORTH_LATITUDE 34 52 30.000 *
WEST_LONGITUDE -116 48 45.000 *
SOUTH_LATITUDE 34 48 45.000 *
EAST_LONGITUDE -116 45 00.000 *
PRODUCTION_DATE 1998 05 13 *
RASTER_ORDER LEFT_RIGHT/TOP_BOTTOM *
BAND_ORGANIZATION "SINGLE FILE" *
BAND_CONTENT BLACK&WHITE *
BITS_PER_PIXEL 8 *
SAMPLES_AND_LINES 6420 7590 *
HORIZONTAL_DATUM NAD83 *
HORIZONTAL_COORDINATE_SYSTEM UTM *
COORDINATE_ZONE 11 *
HORIZONTAL_UNITS METERS *
HORIZONTAL_RESOLUTION 1.000 *
SECONDARY_HORIZONTAL_DATUM NAD27 *
XY_ORIGIN 516750.000 3859530.000 *
SECONDARY_XY_ORIGIN 516829.713 3859334.520 *
NATION US *
STATE CA *
NW_QUAD_CORNER_XY 517135.674 3859197.214 *
NE_QUAD_CORNER_XY 522847.577 3859209.684 *
SE_QUAD_CORNER_XY 522864.855 3852278.827 *
SW_QUAD_CORNER_XY 517148.633 3852266.368 *
SECONDARY_NW_QUAD_XY 517136.069 3859000.029 *
SECONDARY_NE_QUAD_XY 522848.104 3859012.498 *
SECONDARY_SE_QUAD_XY 522865.381 3852081.832 *
SECONDARY_SW_QUAD_XY 517149.028 3852069.372 *
RMSE_XY 0.690 *
IMAGE_SOURCE "BLACK AND WHITE FILM" *
SOURCE_IMAGE_ID "NAPP 6873 85" *
SOURCE_IMAGE_DATE 1995 10 01 *
SOURCE_IMAGE_ID "NAPP 6873 86" *
SOURCE_IMAGE_DATE 1995 10 01 *
SOURCE_IMAGE_ID "NAPP 6873 92" *
SOURCE_IMAGE_DATE 1995 10 01 *
SOURCE_DEM_DATE 1971 01 01 *
AGENCY "WESTERN MAPPING CENTER (WMC)" *
PRODUCER "ANALYTICAL SURVEYS INC." *
PRODUCTION_SYSTEM "ORBIT OR_RECTIFY V.5.2" *
STANDARD_VERSION 1996 12 *
METADATA_DATE 1998 05 14 *
DATA_FILE_SIZE 48734220 *
BYTE_COUNT 6420 * * * * * * * * * * * * * * * * * * * * * * * * * * * * * * * * * *
END_USGS_HEADER *
