BEGIN_USGS_DOQ_HEADER *
QUADRANGLE_NAME "MINNEOLA" *
QUADRANT SW *
NORTH_LATITUDE 34 48 45.000 *
WEST_LONGITUDE -116 52 30.000 *
SOUTH_LATITUDE 34 45 00.000 *
EAST_LONGITUDE -116 48 45.000 *
PRODUCTION_DATE 1998 05 13 *
RASTER_ORDER LEFT_RIGHT/TOP_BOTTOM *
BAND_ORGANIZATION "SINGLE FILE" *
BAND_CONTENT BLACK&WHITE *
BITS_PER_PIXEL 8 *
SAMPLES_AND_LINES 6420 7560 *
HORIZONTAL_DATUM NAD83 *
HORIZONTAL_COORDINATE_SYSTEM UTM *
COORDINATE_ZONE 11 *
HORIZONTAL_UNITS METERS *
HORIZONTAL_RESOLUTION 1.000 *
SECONDARY_HORIZONTAL_DATUM NAD27 *
XY_ORIGIN 511050.000 3852570.000 *
SECONDARY_XY_ORIGIN 511129.766 3852374.501 *
NATION US *
STATE CA *
NW_QUAD_CORNER_XY 511432.418 3852257.468 *
NE_QUAD_CORNER_XY 517148.633 3852266.368 *
SE_QUAD_CORNER_XY 517161.571 3845335.592 *
SW_QUAD_CORNER_XY 511441.044 3845326.700 *
SECONDARY_NW_QUAD_XY 511432.681 3852060.473 *
SECONDARY_NE_QUAD_XY 517149.028 3852069.372 *
SECONDARY_SE_QUAD_XY 517161.966 3845138.788 *
SECONDARY_SW_QUAD_XY 511441.306 3845129.895 *
RMSE_XY 1.180 *
IMAGE_SOURCE "BLACK AND WHITE FILM" *
SOURCE_IMAGE_ID "NAPP 6873 90" *
SOURCE_IMAGE_DATE 1995 10 01 *
SOURCE_IMAGE_ID "NAPP 6870 136" *
SOURCE_IMAGE_DATE 1994 06 08 *
SOURCE_DEM_DATE 1971 01 01 *
AGENCY "WESTERN MAPPING CENTER (WMC)" *
PRODUCER "ANALYTICAL SURVEYS INC." *
PRODUCTION_SYSTEM "ORBIT OR_RECTIFY V.5.2" *
STANDARD_VERSION 1996 12 *
METADATA_DATE 1998 05 14 *
DATA_FILE_SIZE 48541620 *
BYTE_COUNT 6420 * * * * * * * * * * * * * * * * * * * * * * * * * * * * * * * * * * * *
END_USGS_HEADER *
