BEGIN_USGS_DOQ_HEADER *
QUADRANGLE_NAME "DAGGETT" *
QUADRANT SE *
NORTH_LATITUDE 34 48 45.000 *
WEST_LONGITUDE -116 56 15.000 *
SOUTH_LATITUDE 34 45 00.000 *
EAST_LONGITUDE -116 52 30.000 *
PRODUCTION_DATE 1998 05 08 *
RASTER_ORDER LEFT_RIGHT/TOP_BOTTOM *
BAND_ORGANIZATION "SINGLE FILE" *
BAND_CONTENT BLACK&WHITE *
BITS_PER_PIXEL 8 *
SAMPLES_AND_LINES 6450 7560 *
HORIZONTAL_DATUM NAD83 *
HORIZONTAL_COORDINATE_SYSTEM UTM *
COORDINATE_ZONE 11 *
HORIZONTAL_UNITS METERS *
HORIZONTAL_RESOLUTION 1.000 *
SECONDARY_HORIZONTAL_DATUM NAD27 *
XY_ORIGIN 505320.000 3852570.000 *
SECONDARY_XY_ORIGIN 505399.789 3852374.524 *
NATION US *
STATE CA *
NW_QUAD_CORNER_XY 505716.208 3852252.129 *
NE_QUAD_CORNER_XY 511432.418 3852257.468 *
SE_QUAD_CORNER_XY 511441.044 3845326.700 *
SW_QUAD_CORNER_XY 505720.521 3845321.365 *
SECONDARY_NW_QUAD_XY 505716.339 3852055.133 *
SECONDARY_NE_QUAD_XY 511432.681 3852060.473 *
SECONDARY_SE_QUAD_XY 511441.306 3845129.895 *
SECONDARY_SW_QUAD_XY 505720.652 3845124.560 *
RMSE_XY 1.157 *
IMAGE_SOURCE "BLACK AND WHITE FILM" *
SOURCE_IMAGE_ID "NAPP 6873 166" *
SOURCE_IMAGE_DATE 1995 10 01 *
SOURCE_DEM_DATE 1971 01 01 *
AGENCY "WESTERN MAPPING CENTER (WMC)" *
PRODUCER "ANALYTICAL SURVEYS INC." *
PRODUCTION_SYSTEM "ORBIT OR_RECTIFY V.5.2" *
STANDARD_VERSION 1996 12 *
METADATA_DATE 1998 05 08 *
DATA_FILE_SIZE 48768450 *
BYTE_COUNT 6450 * * * * * * * * * * * * * * * * * * * * * * * * * * * * * * * * * * * * * *
END_USGS_HEADER *
