BEGIN_USGS_DOQ_HEADER *
QUADRANGLE_NAME "DAGGETT" *
QUADRANT SW *
NORTH_LATITUDE 34 48 45.000 *
WEST_LONGITUDE -117 00 00.000 *
SOUTH_LATITUDE 34 45 00.000 *
EAST_LONGITUDE -116 56 15.000 *
PRODUCTION_DATE 1998 05 08 *
RASTER_ORDER LEFT_RIGHT/TOP_BOTTOM *
BAND_ORGANIZATION "SINGLE FILE" *
BAND_CONTENT BLACK&WHITE *
BITS_PER_PIXEL 8 *
SAMPLES_AND_LINES 6420 7560 *
HORIZONTAL_DATUM NAD83 *
HORIZONTAL_COORDINATE_SYSTEM UTM *
COORDINATE_ZONE 11 *
HORIZONTAL_UNITS METERS *
HORIZONTAL_RESOLUTION 1.000 *
SECONDARY_HORIZONTAL_DATUM NAD27 *
XY_ORIGIN 499620.000 3852570.000 *
SECONDARY_XY_ORIGIN 499699.812 3852374.547 *
NATION US *
STATE CA *
NW_QUAD_CORNER_XY 500000.000 3852250.349 *
NE_QUAD_CORNER_XY 505716.208 3852252.129 *
SE_QUAD_CORNER_XY 505720.521 3845321.365 *
SW_QUAD_CORNER_XY 500000.000 3845319.586 *
SECONDARY_NW_QUAD_XY 500000.000 3852053.353 *
SECONDARY_NE_QUAD_XY 505716.339 3852055.133 *
SECONDARY_SE_QUAD_XY 505720.652 3845124.560 *
SECONDARY_SW_QUAD_XY 500000.000 3845122.782 *
RMSE_XY 1.095 *
IMAGE_SOURCE "BLACK AND WHITE FILM" *
SOURCE_IMAGE_ID "NAPP 6880 78" *
SOURCE_IMAGE_DATE 1995 10 07 *
SOURCE_DEM_DATE 1971 01 01 *
AGENCY "WESTERN MAPPING CENTER (WMC)" *
PRODUCER "ANALYTICAL SURVEYS INC." *
PRODUCTION_SYSTEM "ORBIT OR_RECTIFY V.5.2" *
STANDARD_VERSION 1996 12 *
METADATA_DATE 1998 05 08 *
DATA_FILE_SIZE 48541620 *
BYTE_COUNT 6420 * * * * * * * * * * * * * * * * * * * * * * * * * * * * * * * * * * * * * *
END_USGS_HEADER *
