BEGIN_USGS_DOQ_HEADER *
QUADRANGLE_NAME "WEST OF BROADWELL MESA" 3.45 or 7.5-min. name*
QUADRANT SE quadrant indicator if cell size = 3.75-minutes*
WEST_LONGITUDE -116 11 15.000 signed deg min sec SDDD MM SS.SSS*
EAST_LONGITUDE -116 7 30.000 signed deg min sec SDDD MM SS.SSS*
NORTH_LATITUDE 34 56 15.000 signed deg min sec SDDD MM SS.SSS*
SOUTH_LATITUDE 34 52 30.000 signed deg min sec SDDD MM SS.SSS*
PRODUCTION_DATE 1997 2 4 yyyy mm dd*
RASTER_ORDER LEFT_RIGHT/TOP_BOTTOM video display order*
BAND_ORGANIZATION "SINGLE FILE" single file or BSQ, or BIL or BIP*
BAND_CONTENT BLACK&WHITE black&white or red green blue*
BITS_PER_PIXEL 8 radiometric resolution*
SAMPLES_AND_LINES 6480 7620 number of columns and rows*
HORIZONTAL_DATUM NAD83 primary horizontal datum*
HORIZONTAL_COORDINATE_SYSTEM UTM *
COORDINATE_ZONE 11 coordinate system zone number*
HORIZONTAL_UNITS METERS coordinate system units*
HORIZONTAL_RESOLUTION 1.00 pixel horiz. ground sample distance*
SECONDARY_HORIZONTAL_DATUM NAD27 secondary horizontal datum*
XY_ORIGIN 573810.000 3866790.000 coord. of upper left pixel pri. datum*
SECONDARY_XY_ORIGIN 573889.156 3866594.848 coord upper left pixel sec datum*
NATION US nation code*
STATE CA state fip code*
NW_QUAD_CORNER_XY 574199.163 3866413.389 XY coords. of pri. NW quad corner*
NE_QUAD_CORNER_XY 579906.940 3866461.529 XY coords. of pri. NE quad corner*
SE_QUAD_CORNER_XY 579967.516 3859530.342 XY coords. of pri. SE quad corner*
SW_QUAD_CORNER_XY 574255.412 3859482.241 XY coords. of pri. SW quad corner*
SECONDARY_NW_QUAD_XY 574200.877 3866216.020 XY coords. - sec. NW quad cor.*
SECONDARY_NE_QUAD_XY 579908.785 3866264.161 XY coords. - sec. NE quad cor.*
SECONDARY_SE_QUAD_XY 579969.359 3859333.164 XY coords. - sec. SE quad cor.*
SECONDARY_SW_QUAD_XY 574257.123 3859285.062 XY coords. - sec. SW quad cor.*
RMSE_XY 1.90 doq horiz. accuracy*
IMAGE_SOURCE "BLACK AND WHITE FILM" b&w, cir, natural color, other*
SOURCE_IMAGE_ID "NAPP 6820 191" source image id*
SOURCE_IMAGE_DATE 1995 9 29 source image date as yyyy mm dd*
SOURCE_DEM_DATE 1997 2 4 source dem date yyyy mm dd*
AGENCY "WESTERN MAPPING CENTER (WMC)" oversight agency*
PRODUCER "Analytical Surveys" producer/contractor*
PRODUCTION_SYSTEM "ORBIT OR_RECTIFY V.5.2" production system*
STANDARD_VERSION 1996 12 version of DOQ standard*
METADATA_DATE 1997 10 30 date created or changed, yyyy mm dd*
DATA_FILE_SIZE 49384080 data set size in bytes*
BYTE_COUNT 6480 header byte count* * * * * * * * * * * * * * * * * * * * * * * * * * * * * * * * * * * * * *
END_USGS_HEADER *
