BEGIN_USGS_DOQ_HEADER *
QUADRANGLE_NAME "HIDDEN VALLEY WEST" *
QUADRANT SE *
NORTH_LATITUDE 34 56 15.000 *
WEST_LONGITUDE -116 26 15.000 *
SOUTH_LATITUDE 34 52 30.000 *
EAST_LONGITUDE -116 22 30.000 *
PRODUCTION_DATE 1998 04 21 *
RASTER_ORDER LEFT_RIGHT/TOP_BOTTOM *
BAND_ORGANIZATION "SINGLE FILE" *
BAND_CONTENT BLACK&WHITE *
BITS_PER_PIXEL 8 *
SAMPLES_AND_LINES 6450 7590 *
HORIZONTAL_DATUM NAD83 *
HORIZONTAL_COORDINATE_SYSTEM UTM *
COORDINATE_ZONE 11 *
HORIZONTAL_UNITS METERS *
HORIZONTAL_RESOLUTION 1.000 *
SECONDARY_HORIZONTAL_DATUM NAD27 *
XY_ORIGIN 550980.000 3866610.000 *
SECONDARY_XY_ORIGIN 551059.451 3866414.658 *
NATION US *
STATE CA *
NW_QUAD_CORNER_XY 551368.340 3866256.495 *
NE_QUAD_CORNER_XY 557076.008 3866290.369 *
SE_QUAD_CORNER_XY 557119.275 3859359.320 *
SW_QUAD_CORNER_XY 551407.280 3859325.473 *
SECONDARY_NW_QUAD_XY 551369.526 3866059.122 *
SECONDARY_NE_QUAD_XY 557077.326 3866092.997 *
SECONDARY_SE_QUAD_XY 557120.591 3859162.138 *
SECONDARY_SW_QUAD_XY 551408.465 3859128.290 *
RMSE_XY 2.873 *
IMAGE_SOURCE "BLACK AND WHITE FILM" *
SOURCE_IMAGE_ID "NAPP 6820 105" *
SOURCE_IMAGE_DATE 1995 09 29 *
SOURCE_DEM_DATE 1975 01 01 *
AGENCY "WESTERN MAPPING CENTER (WMC)" *
PRODUCER "ANALYTICAL SURVEYS INC." *
PRODUCTION_SYSTEM "ORBIT OR_RECTIFY V.5.2" *
STANDARD_VERSION 1996 12 *
METADATA_DATE 1998 04 22 *
DATA_FILE_SIZE 48961950 *
BYTE_COUNT 6450 * * * * * * * * * * * * * * * * * * * * * * * * * * * * * * * * * * * * * *
END_USGS_HEADER *
