BEGIN_USGS_DOQ_HEADER *
QUADRANGLE_NAME "MANIX" *
QUADRANT NW *
NORTH_LATITUDE 35 00 00.000 *
WEST_LONGITUDE -116 37 30.000 *
SOUTH_LATITUDE 34 56 15.000 *
EAST_LONGITUDE -116 33 45.000 *
PRODUCTION_DATE 1998 04 21 *
RASTER_ORDER LEFT_RIGHT/TOP_BOTTOM *
BAND_ORGANIZATION "SINGLE FILE" *
BAND_CONTENT BLACK&WHITE *
BITS_PER_PIXEL 8 *
SAMPLES_AND_LINES 6450 7590 *
HORIZONTAL_DATUM NAD83 *
HORIZONTAL_COORDINATE_SYSTEM UTM *
COORDINATE_ZONE 11 *
HORIZONTAL_UNITS METERS *
HORIZONTAL_RESOLUTION 1.000 *
SECONDARY_HORIZONTAL_DATUM NAD27 *
XY_ORIGIN 533820.000 3873450.000 *
SECONDARY_XY_ORIGIN 533899.535 3873254.547 *
NATION US *
STATE CA *
NW_QUAD_CORNER_XY 534219.455 3873107.296 *
NE_QUAD_CORNER_XY 539922.733 3873130.491 *
SE_QUAD_CORNER_XY 539953.066 3866199.444 *
SW_QUAD_CORNER_XY 534245.454 3866176.268 *
SECONDARY_NW_QUAD_XY 534220.246 3872909.733 *
SECONDARY_NE_QUAD_XY 539923.656 3872932.929 *
SECONDARY_SE_QUAD_XY 539953.988 3866002.071 *
SECONDARY_SW_QUAD_XY 534246.245 3865978.894 *
RMSE_XY 1.240 *
IMAGE_SOURCE "BLACK AND WHITE FILM" *
SOURCE_IMAGE_ID "NAPP 6871 62" *
SOURCE_IMAGE_DATE 1995 09 30 *
SOURCE_DEM_DATE 1982 01 01 *
AGENCY "WESTERN MAPPING CENTER (WMC)" *
PRODUCER "ANALYTICAL SURVEYS INC." *
PRODUCTION_SYSTEM "ORBIT OR_RECTIFY V.5.2" *
STANDARD_VERSION 1996 12 *
METADATA_DATE 1998 04 23 *
DATA_FILE_SIZE 48961950 *
BYTE_COUNT 6450 * * * * * * * * * * * * * * * * * * * * * * * * * * * * * * * * * * * * * *
END_USGS_HEADER *
